Workbook

Sheet Nhập Rs thep CV240,300,400 
E1: THUYẾT MINH ĐỒ ÁN SÀN SƯỜN BÊ TÔNG CỐT THÉP TOÀN KHỐI
A2: I. | B2: SỐ LIỆU TÍNH TOÁN
B3: 1, Sơ đồ kết cấu sàn | F3: (theo hình vẽ)
B26: 2, Kích thước
C27: Tính từ trục tường và trục dầm: L1 = | H27: ='Nhập dữ liệu'!B13 -> 2.6 | I27: m; | J27: L2 = | K27: ='Nhập dữ liệu'!C13 -> 5.4 | L27: m;
C28: Tường chịu lực có chiều dày | G28: bt = | H28: ='Nhập dữ liệu'!D19/1000 -> 0.34 | I28: m;
C29: Cột bê tông cốt thép có tiết diện bc x hc | H29: ='Nhập dữ liệu'!D13/1000 -> 0.4 | I29: ='Nhập dữ liệu'!E13/1000 -> 0.4 | J29: m.
B30: 3, Cấu tạo mặt sàn
C31: Gồm 4 lớp như hình vẽ
B50: 4, | C50: Vật liệu
C51: - Bê tông cấp độ bền B | G51: ='Nhập dữ liệu'!J13 -> 20 | H51: theo cường độ chịu nén có:
D52: Rb = | E52: =IF(G51=12.5,7.5,IF(G51=15,8.5,IF(G51=20,11.5,IF(G51=25,14.5,IF(G51=30,17,IF(G51=35,19.5,IF(G51=40,22,IF(G51=45,25,IF(G51=50,27.5,IF(G51=55,30,IF(G51=60,33,"nhập giá trị vào"))))))))))) -> 11.5 | F52: Mpa; | G52: Rbt = | H52: =IF(G51=12.5,0.66,IF(G51=15,0.75,IF(G51=20,0.9,IF(G51=25,1.05,IF(G51=30,1.2,IF(G51=35,1.3,IF(G51=40,1.4,IF(G51=45,1.45,IF(G51=50,1.55,IF(G51=55,1.6,IF(G51=60,1.65,"nhập giá trị vào"))))))))))) -> 0.9 | I52: Mpa; | J52: Eb = | K52: =IF(G51=12.5,21,IF(G51=15,23,IF(G51=20,27,IF(G51=25,30,IF(G51=30,32.5,IF(G51=35,34.5,IF(G51=40,36,IF(G51=45,37.5,IF(G51=50,39,IF(G51=55,39.5,IF(G51=60,40,"nhập giá trị vào"))))))))))) -> 27 | L52: .10^3 | M52: Mpa;
C53: - Cốt thép bản và đai dầm nhóm CB 240T | G53: ='Nhập dữ liệu'!G29 -> CI | H53: có : | I53: Rs = | J53: 210 | K53: Mpa; | L53: Rsc = | M53: 210 | N53: Mpa; | O53: Rsw = | P53: 170 | Q53: Mpa; | R53: Es = | S53: =IF(OR(G53="a-I",G53="a-ii",G53="ci",G53="cii"),21,IF(OR(G53="a-iii",G53="ciii"),20,IF(OR(G53="civ",G53="a-iv",G53="a-v",G53="a-vii"),19,IF(G53="a-iiib",18)))) -> 21 | T53: .10^4 | U53: Mpa;
C54: - Cốt thép dọc dầm nhóm CB 300V hoặc CB 400V | G54: ='Nhập dữ liệu'!G30 -> CII | H54: có : | I54: Rs = | J54: 260 | K54: Mpa; | L54: Rsc = | M54: 260 | N54: Mpa; | O54: Rsw = | P54: 210 | Q54: Mpa; | R54: Es = | S54: =IF(OR(G54="a-I",G54="a-ii",G54="ci",G54="cii"),21,IF(OR(G54="a-iii",G54="ciii"),20,IF(OR(G54="civ",G54="a-iv",G54="a-v",G54="a-vii"),19,IF(G54="a-iiib",18)))) -> 21 | T54: .10^4 | U54: Mpa;
B55: >>>>>>>>>>>>>>>>>>>>>>>>>>>>>>>>>>>>>>>>>>>>>>>>>>>>>>>>>>>>>>>>>>>>>>>>>>>>>>>>>>>>>>>>>>>>>>>>>>>>>>>>>>>>>>>>>>>>>>>>>>>>>>>>>>>>>>>>>>>>>.

Sheet Nhập dữ liệu
G3: KS. VŨ ĐỒ ÁN. SĐT 0979860286
G5: CHUYÊN HD ĐỒ ÁN BÊ TÔNG 1, ÔN THI MÔN HỌC BÊ TÔNG 1, CƠ HỌC ĐẤT
D8: NHẬP SỐ LIỆU ĐƯỢC GIAO
A9: I: | B9: SỐ LIỆU TÍNH TOÁN
B11: L1 (m) | C11: L2 (m) | D11: Tiết diện cột | G11: Hoạt tải tiêu chuẩn | I11: Cấp độ bền
D12: bc x hc | E12: (mm) | F12: ptc | G12: (kN/m2) | I12: của bêtông
B13: 2.6 | C13: 5.4 | D13: 400 | E13: 400 | G13: 5.5 | I13: B | J13: 20
B14: =IF(B13="","{nhập vào}","") | C14: =IF(C13="","{nhập vào}","") | D14: =IF(D13="","{chọn}","") | E14: =IF(E13="","{chọn}","") | G14: =IF(G13="","{nhập vào}","") | J14: =IF(J13="","{chọn}","")
B15: Hệ số vượt tải của hoạt tải: n = | F15: 1.3
B16: Dầm phụ mấy nhịp : | E16: 3 | F16: nhịp
B17: Dầm chính mấy nhịp : | E17: 4 | F17: nhịp
B19: Bề dày tường là : | D19: 340 | E19: (mm)
B21: các lớp hoàn thiện sàn | E21: bề dày | F21: dung trọng | G21: hệ số
E22: mm | F22: (kN/m3) | G22: vượt tải
B23: Lớp gạch lát dày | E23: 20 | F23: 22 | G23: 1.1
B24: Lớp vữa lót | E24: 30 | F24: 20 | G24: 1.3
B25: Sàn bêtông cốt thép | E25: hb | F25: 25 | G25: 1.1
B26: Lớp vữa trát trần | E26: 15 | F26: 20 | G26: 1.3
A28: II: | B28: VẬT LIỆU SỬ DỤNG
B29: - Thép bản và đai dầm dùng nhóm : | G29: CI
B30: - Thép dọc dầm dùng nhóm : | G30: CII
A32: >>>>>>>>>>>>>>>>>>>>>>>>>>>>>>>>>>>>>>>>>>>>>>>>>>>>>>>>>>>>>>>>>>>>>>>>>>>>>>>>>>>>>>>>>>>>>>>>>>>>>>>>>>>>>>>>>>>>>>>>>>>>>>>>>>>>>

Sheet Tính Bản
A1: II. | C1: TÍNH BẢN
B2: 1, | C2: Chọn kích thước các cấu kiện
C3: - Chiều dày của bản:
F4: 1.1
F5: ------------ | G5: ='Nhập dữ liệu'!B13*1000 -> 2600 | H5: = | I5: =F4*G5/F6 -> 81.714286 | J5: mm; | K5: Chọn | L5: hb= | M5: 90 | N5: mm. | U5: =INT(I5) -> 81 | V5: =MOD(U5,10) -> 1
F6: 35
D8: Trong đó D = | F8: =F4 -> 1.1 | G8: với tải trọng trung bình, m = | J8: =F6 -> 35 | K8: với bản liên tục.
C9: - Chọn tiết diện dầm phụ:
F10: 1
F11: ------------ | G11: ='Nhập dữ liệu'!C13*1000 -> 5400 | H11: = | I11: =G11/F12 -> 385.71429 | J11: mm; | L11: Chọn | M11: hdp= | N11: 500 | O11: mm; | P11: bdp= | Q11: 220 | R11: mm; | U11: =INT(I11) -> 385 | V11: =MOD(U11,100) -> 85
F12: 14
C14: - Chọn tiết diện dầm chính:
F15: 1
F16: ------------ | G16: x 3 x | H16: ='Nhập dữ liệu'!B13*1000 -> 2600 | I16: = | J16: =H16*3/F17 -> 709.09091 | K16: mm; | L16: Chọn | M16: hdc= | N16: 700 | O16: mm; | P16: bdc= | Q16: 300 | R16: mm; | U16: =INT(J16) -> 709 | V16: =MOD(U16,100) -> 9
F17: 11
B19: 2, | C19: Sơ đồ tính | H19: ='Nhập dữ liệu'!C13 -> 5.4
D20: - Xét tỷ số 2 cạnh ô bản: | H20: ---------- = | I20: =H19/H21 -> 2.0769231 | J20: =IF(I20>2,"> 2 , xem bản làm việc theo một phương","xem lại số liệu đầu vào") -> > 2 , xem bản làm việc theo một phương
H21: ='Nhập dữ liệu'!B13 -> 2.6
D22: - Cắt một dải bản rộng b = | G22: 1000 | H22: mm, vuông góc với dầm phụ và xem dải bản làm việc như một dầm liên tục
D23: ( hình vẽ 1a, 2b)
C24: Nhịp tính toán của bản:
J25: =Q11/1000 -> 0.22 | K25: ='Nhập dữ liệu'!D19/1000 -> 0.34 | L25: =M5/1000 -> 0.09
D26: - Nhịp biên: | I26: ='Nhập dữ liệu'!B13 -> 2.6 | J26: - -------- - -------- + -------- = | M26: =I26-J25/2-K25/2+L25/2 -> 2.365 | N26: m;
J27: 2 | K27: 2 | L27: 2
D29: - Nhịp giữa: | F29: lo = l1 – bdp = | H29: ='Nhập dữ liệu'!B13 -> 2.6 | I29: - | J29: =Q11/1000 -> 0.22 | K29: = | L29: =H29-J29 -> 2.38 | M29: m;
H30: =MAX(M26,L29) -> 2.38 | I30: - | J30: =MIN(M26,L29) -> 2.365
D31: - Chênh lệch giữa các nhịp là: | H31: ------------------------------------ . 100 % = | L31: =(H30-J30)/I32 -> 0.0063424947 | M31: < 10%
I32: =M26 -> 2.365
B34: 3, | C34: Tải trọng tính toán
D35: Tải trọng của bản gồm tĩnh tả và hoạt tải
D36: Tĩnh tải được tính toán theo bảng 2.1
E38: Bảng 2.1. Xác định tĩnh tải
G39: bề dày | H39: dung | L39: hệ số
D40: Các lớp cấu tạo bản | G40: (mm) | H40: trọng | J40: giá trị tiêu chuẩn | L40: độ tin cậy | N40: giá trị tính toán
H41: (kN/m3) | J41: (kN/m2) | N41: (kN/m2)
D42: Lớp gạch lát | G42: ='Nhập dữ liệu'!E23 -> 20 | H42: ='Nhập dữ liệu'!F23 -> 22 | J42: =G42*H42/1000 -> 0.44 | L42: ='Nhập dữ liệu'!G23 -> 1.1 | N42: =J42*L42 -> 0.484
D43: Lớp vữa lót | G43: ='Nhập dữ liệu'!E24 -> 30 | H43: ='Nhập dữ liệu'!F24 -> 20 | J43: =G43*H43/1000 -> 0.6 | L43: ='Nhập dữ liệu'!G24 -> 1.3 | N43: =J43*L43 -> 0.78
D44: Sàn bê tông cốt thép | G44: =M5 -> 90 | H44: ='Nhập dữ liệu'!F25 -> 25 | J44: =G44*H44/1000 -> 2.25 | L44: ='Nhập dữ liệu'!G25 -> 1.1 | N44: =J44*L44 -> 2.475
D45: Lớp vữa trát trần | G45: ='Nhập dữ liệu'!E26 -> 15 | H45: ='Nhập dữ liệu'!F26 -> 20 | J45: =G45*H45/1000 -> 0.3 | L45: ='Nhập dữ liệu'!G26 -> 1.3 | N45: =J45*L45 -> 0.39
E46: Tổng cộng | G46: =SUM(G42:G45) -> 155 | J46: =SUM(J42:J45) -> 3.59 | N46: =SUM(N42:N45) -> 4.129
D48: Lấy | E48: gb = | F48: =N46 -> 4.129 | G48: (kN/m2)
D49: Hoạt tải | E49: pb = | F49: ptc xn = | G49: ='Nhập dữ liệu'!G13 -> 5.5 | H49: x | I49: ='Nhập dữ liệu'!F15 -> 1.3 | J49: = | K49: =G49*I49 -> 7.15 | L49: (kN/m2)
D50: Tải trọng toàn phần : | G50: qb = gb + pb = | I50: =F48 -> 4.129 | J50: + | K50: =K49 -> 7.15 | L50: = | M50: =I50+K50 -> 11.279 | N50: (kN/m2)
D51: Tính toán với dải bản rộng | G51: b1 = | H51: =G22/1000 -> 1 | I51: m
E52: qb = | F52: =M50 -> 11.279 | G52: kN/m2 | H52: x | I52: =H51 -> 1 | J52: m = | K52: =F52*I52 -> 11.279 | L52: kN/m
B53: 4, | C53: Nội lực tính toán
C78: - Mômen uốn tại nhịp biên và gối thứ 2: | I78: 2
G79: =M50 -> 11.279 | H79: x | I79: =M26 -> 2.365
G80: ----------------------------------- = | J80: ± | K80: =G79*I79*I79/H81 -> 5.7350895 | L80: kNm
H81: 11
C83: - Mômen uốn tại nhịp giữa và gối giữa: | I83: 2
G84: =K52 -> 11.279 | H84: x | I84: =L29 -> 2.38
G85: ----------------------------------- = | J85: ± | K85: =G84*I84*I84/H86 -> 3.993048 | L85: kNm
H86: 16
C88: - Giá trị lực cắt:
D89: QM = 0,4 x qb x lob = | G89: 0.4 | H89: x | I89: =K52 -> 11.279 | J89: x | K89: =M26 -> 2.365 | L89: = | M89: =G89*I89*K89 -> 10.669934 | N89: kN
E90: 0,6 x qb x lob = | G90: 0.6 | H90: x | I90: =K52 -> 11.279 | J90: x | K90: =M26 -> 2.365 | L90: = | M90: =G90*I90*K90 -> 16.004901 | N90: kN
H91: 0,5 x qb x lo = | J91: =0.5 -> 0.5 | K91: =M50 -> 11.279 | L91: =L29 -> 2.38 | M91: = | N91: =J91*K91*L91 -> 13.42201 | O91: kN
B93: 5, | C93: Tính cốt thép chịu mômen uốn
D94: Chọn a = | E94: 15 | F94: mm cho mọi tiết diện, chiều cao làm việc của bản:
E95: ho = hb – a = | G95: =M5 -> 90 | H95: - | I95: =E94 -> 15 | J95: = | K95: =G95-I95 -> 75 | L95: mm;
C96: * | D96: Tại gối biên và nhịp biên, với M = | H96: =K80 -> 5.7350895 | I96: kNm;
F97: =H96 -> 5.7350895 | G97: x | H97: 1000000 | I97: Nmm
F98: ------------------------------------------------------------ = | K98: =F97*1000000/(F99*G99*H99*H99) -> 0.088658389
F99: ='Nhập Rs thep CV240,300,400 '!E52 -> 11.5 | G99: 1000 | H99: =K95 -> 75 | I99: ^2
H101: =K98 -> 0.088658389 | I101: = | J101: =(1+SQRT(1-2*H101))/2 -> 0.95350943
F104: =H96 -> 5.7350895 | G104: x | H104: 1000000
F105: ------------------------------------------------------------- = | K105: =(F104*1000000)/(F106*G106*H106) -> 381.8868 | L105: mm2
F106: ='Nhập Rs thep CV240,300,400 '!J53 -> 210 | G106: =J101 -> 0.95350943 | H106: =K95 -> 75
H108: =K105 -> 381.8868
G109: -------------------------------------- x 100 %= | K109: =H108/(G110*I110) -> 0.005091824 | L109: =IF(K109<0.003,"{chiều dầy bản quá lớn, hãy giảm chiều dày bản và tính lại}",IF(K109>0.009,"{chiều dày bản quá bé, tăng chiều dày bản và tính lại}",""))
G110: =G22 -> 1000 | H110: x | I110: =K95 -> 75
D112: Chọn thép có đường kính | G112: 8 | H112: mm, | I112: as = | J112: =IF(G112=6,28.3,IF(G112=8,50.3,IF(G112=10,78.5,"chọn lại đường kính"))) -> 50.3 | K112: mm2
D113: khoảng cách giữa các cốt thép:
G115: ( | H115: =G22 -> 1000 | I115: x | J115: =J112 -> 50.3 | K115: )
G116: ---------------------------------------------------------------------- = | L116: =H115*J115/I117 -> 131.71442 | M116: mm | U116: =INT(L116) -> 131
I117: =K105 -> 381.8868
C119: -> | D119: Chọn f | E119: =G112 -> 8 | F119: s = | G119: =10*(INT(U116/10)) -> 130 | H119: mm | L119: =IF(G119<70,"{Khoảng cách s quá bé, nên chọn lại đường kính cốt thép}",IF(G119>200,"{Khoảng cách s quá lớn, nên chọn lại đường kính cốt thép}",""))
C121: * | D121: Tại gối giữa và nhịp giữa, với M = | H121: =K85 -> 3.993048 | I121: kNm;
F122: =H121 -> 3.993048 | G122: x | H122: 1000000 | I122: Nmm
F123: ------------------------------------------------------------ = | K123: =F122*1000000/(F124*G124*H124*H124) -> 0.061728278
F124: ='Nhập Rs thep CV240,300,400 '!E52 -> 11.5 | G124: 1000 | H124: =K95 -> 75 | I124: ^2
H126: =K123 -> 0.061728278 | I126: = | J126: =(1+SQRT(1-2*H126))/2 -> 0.96811949
F129: =H121 -> 3.993048 | G129: x | H129: 1000000 | I129: Nmm
F130: ------------------------------------------------------------- = | K130: =(F129*1000000)/(F131*G131*H131) -> 261.87558 | L130: mm2
F131: ='Nhập Rs thep CV240,300,400 '!J53 -> 210 | G131: =J126 -> 0.96811949 | H131: =K95 -> 75
H133: =K130 -> 261.87558
G134: -------------------------------------- x 100 %= | K134: =H133/(G135*I135) -> 0.0034916744 | L134: =IF(K134<0.003,"{chiều dày bản quá lớn, hãy giảm chiều dày bản và tính lại}",IF(K134>0.009,"{chiều dày bản quá bé, tăng chiều dày bản và tính lại}",""))
G135: =G22 -> 1000 | H135: x | I135: =K95 -> 75
D137: Chọn thép có đường kính | G137: 8 | H137: mm, | I137: as = | J137: =IF(G137=6,28.3,IF(G137=8,50.3,IF(G137=10,78.5,"chọn lại đường kính"))) -> 50.3 | K137: mm2
D138: khoảng cách giữa các cốt thép:
G140: ( | H140: =G22 -> 1000 | I140: x | J140: =J137 -> 50.3 | K140: )
G141: ------------------------------------------------------- = | L141: =H140*J140/I142 -> 192.07595 | M141: mm | U141: =INT(L141) -> 192
I142: =K130 -> 261.87558
C144: -> | D144: Chọn f | E144: =G137 -> 8 | F144: s = | G144: =10*(INT(U141/10)) -> 190 | H144: mm | L144: =IF(G144<70,"{Khoảng cách s quá bé, nên chọn lại đường kính cốt thép}",IF(G144>200,"{Khoảng cách s quá lớn, nên chọn lại đường kính cốt thép}",""))
C145: * | D145: Tại gối giữa và nhịp giữa trong vùng được phép giảm lượng cốt thép đến tối đa 20%
E147: As = 0.8 x | F147: =K130 -> 261.87558 | G147: = | H147: =0.8*F147 -> 209.50047 | I147: mm2
G148: =H147 -> 209.50047
E149: m% = | F149: ------------------------------------- x | I149: 1 | J149: = | K149: =G148/(F150*H150) -> 0.0027933395
F150: =G22 -> 1000 | G150: x | H150: =K95 -> 75
...

Sheet Tính dầm phụ
A1: III. | B1: TÍNH DẦM PHỤ
B2: 1, | C2: Sơ đồ tính
D3: - Dầm phụ là dầm liên tục | G3: ='Nhập dữ liệu'!E16 -> 3 | H3: nhịp đối xứng.
D4: - Xét một nửa dầm bên trái của dầm (hình vẽ)
D5: - Dầm gối lên tường một đoạn không nhỏ hơn 220 mm vì vậy trong tính toán lấy | M5: Sd = | N5: 220 | O5: mm.
D6: - Bề rộng của dầm chính | G6: bdc= | H6: ='Tính Bản'!Q16 -> 300 | I6: mm
C7: * Nhịp tính toán của dầm phụ:
J8: =H6/1000 -> 0.3 | K8: ='Nhập dữ liệu'!D19/1000 -> 0.34 | L8: =N5/1000 -> 0.22
D9: - Nhịp biên: | H9: ='Nhập dữ liệu'!C13 -> 5.4 | I9: - | J9: ------- - | K9: -------- + | L9: -------- = | M9: =H9-J8/J10-K8/K10+L8/2 -> 5.19 | N9: m
J10: 2 | K10: 2 | L10: 2
D12: - Nhịp giữa: | G12: lp = l1 – bdc = | I12: =H9 -> 5.4 | J12: - | K12: =H6/1000 -> 0.3 | L12: = | M12: =I12-K12 -> 5.1 | N12: m.
D14: - Chênh lệch giữa các nhịp: | G14: ( | H14: =M9 -> 5.19 | I14: - | J14: =M12 -> 5.1 | K14: ). 100% | L14: = | M14: =(H14-J14)/I15 -> 0.01734104 | N14: < 10%
I15: =M9 -> 5.19
D19: KS. VŨ ĐỒ ÁN. SĐT 0979860286
D21: CHUYÊN HD ĐỒ ÁN BÊ TÔNG 1, ÔN THI MÔN HỌC BÊ TÔNG 1, CƠ HỌC ĐẤT
B27: 2, | C27: Tải trọng tính toán
C28: * Tĩnh tải
D29: - Tải trọng bản thân dầm (không kể phần bản dày | J29: ='Tính Bản'!$M$5 -> 90 | K29: mm):
E30: godc= bdp (hdp –hb).g.n = | G30: ='Tính Bản'!$Q$11/1000 -> 0.22 | H30: . ( | I30: ='Tính Bản'!$N$11/1000 -> 0.5 | J30: - | K30: ='Tính Bản'!$M$5/1000 -> 0.09 | L30: ) . | M30: 25 | N30: ='Nhập dữ liệu'!G25 -> 1.1 | O30: = | P30: =G30*(I30-K30)*M30*N30 -> 2.4805 | Q30: kN/m
D31: - Tĩnh tải truyền từ bản: | G31: gb . l1 = | H31: ='Tính Bản'!$F$48 -> 4.129 | I31: x | J31: ='Nhập dữ liệu'!B13 -> 2.6 | K31: = | L31: =H31*J31 -> 10.7354 | M31: kN/m
D32: - Tĩnh tải toàn phần: | G32: gdp = godp +gbl1 = | I32: =P30 -> 2.4805 | J32: + | K32: =L31 -> 10.7354 | L32: = | M32: =I32+K32 -> 13.2159 | N32: kN/m.
C33: * Hoạt tải
D34: - Hoạt tải truyền từ bản: | G34: pdp = pb.l1 = | I34: ='Tính Bản'!$K$49 -> 7.15 | J34: x | K34: ='Nhập dữ liệu'!B13 -> 2.6 | L34: = | M34: =I34*K34 -> 18.59 | N34: kN/m.
C36: * Tải trọng tính toán toàn phần: | H36: qdp = gdp + pdp = | J36: =M32 -> 13.2159 | K36: + | L36: =M34 -> 18.59 | M36: = | N36: =J36+L36 -> 31.8059 | O36: kN/m.
D38: - Tỷ số: | E38: pdp | F38: = | G38: =M34 -> 18.59 | H38: = | I38: =G38/G39 -> 1.406639
E39: gdp | G39: =M32 -> 13.2159
B40: 3, Nội lực tính toán
C41: a, Mômen uốn
D42: - Tung độ hình bao mômen ( nhánh dương): | J42: 2
D43: +, | E43: Tại nhịp biên: | I43: =N36 -> 31.8059 | J43: =M9 -> 5.19 | K43: = | L43: b1 . | M43: =I43*J43*J43 -> 856.7269 | N43: kNm
J44: 2
D45: +, | E45: Tại nhịp giữa: | I45: =N36 -> 31.8059 | J45: =M12 -> 5.1 | K45: = | L45: b1 . | M45: =I45*J45*J45 -> 827.27146 | N45: kNm
L46: 2
D47: - Tung độ hình bao mômen ( nhánh âm): | K47: =N36 -> 31.8059 | L47: =J45 -> 5.1 | M47: = | N47: b2 . | O47: =K47*L47*L47 -> 827.27146 | P47: kNm
D48: Tra phụ lục 11 quyển " SÀN SƯỜN BÊ TÔNG CỐT THÉP TOÀN KHỐI", với tỷ số | M48: pdp | N48: / | O48: gdp | P48: = | Q48: =I38 -> 1.406639
D49: có hệ số k = | F49: =IF(Q48<=0.5,0.167,IF(AND(Q48>0.5,Q48<1),0.167+(Q48-0.5)*0.066,IF(AND(Q48>1,Q48<1.5),0.2+(Q48-1)*0.056,IF(AND(Q48>1.5,Q48<2),0.228+(Q48-1.5)*0.044,IF(AND(Q48>2,Q48<2.5),0.25+(Q48-2)*0.04,IF(AND(Q48>2.5,Q48<3),0.27+(Q48-2.5)*0.03,IF(AND(Q48>3,Q48<4,0.285+(Q48-3)*0.058),IF(AND(Q48>4,Q48<5),0.314+(Q48-4)*0.6038,"")))))))) -> 0.22277178 | G49: và các hệ số | I49: b1 , b2 | J49: kết quả tính toán được trình bày trong bảng 3.1
D51: Bảng 3.1. Tính toán hình bao mômen của dầm phụ
F53: giá trị | G53: b | H53: Tung độ M (kNm)
D54: Nhịp | E54: tiết diện | F54: b1 | G54: b2 | H54: M+ | I54: M-
D55: Nhịp | E55: biên
D56: Gối | E56: 1
D57: 1 | F57: 0.065 | H57: =F57*M43 -> 55.687249
D58: 2 | F58: 0.09 | H58: =F58*M43 -> 77.105421
D59: 0,425.l | F59: 0.091 | H59: =F59*M43 -> 77.962148
D60: 3 | F60: 0.075 | H60: =F60*M43 -> 64.254518
D61: 4 | F61: 0.02 | H61: =F61*M43 -> 17.134538
D62: Gối 2 - | E62: td5 | G62: -0.0715 | I62: =G62*M43 -> -61.255974
D63: Nhịp | E63: 2
D64: 6 | F64: 0.018 | G64: =IF(Q48<=0.5,-0.01,IF(AND(Q48>0.5,Q48<1),-0.01*(1+(Q48-0.5)*2),IF(AND(Q48>1,Q48<1.5),-0.01*(2+(Q48-1)*1.2),IF(AND(Q48>1.5,Q48<2),-0.01*(2.6+(Q48-1.5)*0.8),IF(AND(Q48>2,Q48<2.5),-0.01*(3+(Q48-2)*0.6),IF(AND(Q48>2.5,Q48<3),-0.01*(3.3+(Q48-2.5)*0.4),IF(AND(Q48>3,Q48<4),-0.01*(3.5+(Q48-3)*0.6),IF(AND(Q48>4,Q48<5),-0.01*(3.8+(Q48-4)*0.4),"")))))))) -> -0.024879668 | H64: =F64*M45 -> 14.890886 | I64: =G64*O47 -> -20.582239
D65: 7 | F65: 0.058 | G65: =IF(Q48<=0.5,-0.01*(-2.2),IF(AND(Q48>0.5,Q48<1),-0.01*(-2.2+(Q48-0.5)*1.2),IF(AND(Q48>1,Q48<1.5),-0.01*(-1.6+(Q48-1)*3.8),IF(AND(Q48>1.5,Q48<2),-0.01*(0.3+(Q48-1.5)*1.2),IF(AND(Q48>2,Q48<2.5),-0.01*(0.9+(Q48-2)*0.6),IF(AND(Q48>2.5,Q48<3),-0.01*(1.2+(Q48-2.5)*0.6),IF(AND(Q48>3,Q48<4),-0.01*(1.6+(Q48-3)*1),IF(AND(Q48>4,Q48<5),-0.01*(2.1+(Q48-4)*0.6),"")))))))) -> 0.00054771904 | H65: =F65*M45 -> 47.981745 | I65: =G65*O47 -> 0.45311233
D66: 0,5.l | F66: 0.0625 | H66: =F66*M45 -> 51.704466
D67: =IF(OR(G3=4,G3=5),"8","") | F67: =IF(OR(G3=4,G3=5),0.058,"") | G67: =IF(G3<4,"",IF(Q48<=0.5,-0.01*(-2.4),IF(AND(Q48>0.5,Q48<1),-0.01*(-2.4+(Q48-0.5)*3),IF(AND(Q48>1,Q48<1.5),-0.01*(-0.9+(Q48-1)*1.8),IF(AND(Q48>1.5,Q48<2),-0.01*(0+(Q48-1.5)*1.2),IF(AND(Q48>2,Q48<2.5),-0.01*(0.6+(Q48-2)*0.6),IF(AND(Q48>2.5,Q48<3),-0.01*(0.9+(Q48-2.5)*1),IF(AND(Q48>3,Q48<4),-0.01*(1.4+(Q48-3)*0.8),IF(AND(Q48>4,Q48<5),-0.01*(1.8+(Q48-4)*0.6),""))))))))) | H67: =IF(OR(G3=4,G3=5),F67*M45,"") | I67: =IF(G3<4,"",G67*O47)
D68: =IF(OR(G3=4,G3=5),"9","") | F68: =IF(OR(G3=4,G3=5),0.018,"") | G68: =IF(G3<4,"",IF(Q48<=0.5,-0.01*(-0.4),IF(AND(Q48>0.5,Q48<1),-0.01*(-0.4+(Q48-0.5)*3.6),IF(AND(Q48>1,Q48<1.5),-0.01*(1.4+(Q48-1)*1.2),IF(AND(Q48>1.5,Q48<2),-0.01*(2+(Q48-1.5)*0.8),IF(AND(Q48>2,Q48<2.5),-0.01*(2.4+(Q48-2)*0.6),IF(AND(Q48>2.5,Q48<3),-0.01*(2.7+(Q48-2.5)*0.4),IF(AND(Q48>3,Q48<4),-0.01*(2.9+(Q48-3)*0.6),IF(AND(Q48>4,Q48<5),-0.01*(3.2+(Q48-4)*0.4),""))))))))) | H68: =IF(OR(G3=4,G3=5),F68*M45,"") | I68: =IF(G3<4,"",G68*O47)
D69: =IF(OR(G3=4,G3=5),"Gối 3 -","") | E69: =IF(OR(G3=4,G3=5),"td10","") | G69: =IF(OR(G3=4,G3=5),-0.0625,"") | I69: =IF(G3<4,"",G69*O47)
D70: =IF(G3=5,"Nhịp","") | E70: =IF(G3=5,"giữa","")
D71: =IF(G3=5,"11","") | F71: =IF(G3=5,0.018,"") | G71: =IF(G3<5,"",IF(Q48<=0.5,-0.01*(0.3),IF(AND(Q48>0.5,Q48<1),-0.01*(0.3+(Q48-0.5)*2),IF(AND(Q48>1,Q48<1.5),-0.01*(1.3+(Q48-1)*1.2),IF(AND(Q48>1.5,Q48<2),-0.01*(1.9+(Q48-1.5)*0.8),IF(AND(Q48>2,Q48<2.5),-0.01*(2.3+(Q48-2)*0.4),IF(AND(Q48>2.5,Q48<3),-0.01*(2.5+(Q48-2.5)*0.6),IF(AND(Q48>3,Q48<4),-0.01*(2.8+(Q48-3)*0.4),IF(AND(Q48>4,Q48<5),-0.01*(3+(Q48-4)*0.6),""))))))))) | H71: =IF(G3=5,F71*M45,"") | I71: =IF(G3<5,"",G71*O47)
D72: =IF(G3=5,"12","") | F72: =IF(G3=5,0.058,"") | G72: =IF(G3<5,"",IF(Q48<=0.5,-0.01*(-2.8),IF(AND(Q48>0.5,Q48<1),-0.01*(-2.8+(Q48-0.5)*3),IF(AND(Q48>1,Q48<1.5),-0.01*(-1.3+(Q48-1)*3.4),IF(AND(Q48>1.5,Q48<2),-0.01*(0.4+(Q48-1.5)*(-0.2)),IF(AND(Q48>2,Q48<2.5),-0.01*(0.3+(Q48-2)*0.6),IF(AND(Q48>2.5,Q48<3),-0.01*(0.6+(Q48-2.5)*0.8),IF(AND(Q48>3,Q48<4),-0.01*(1+(Q48-3)*1),IF(AND(Q48>4,Q48<5),-0.01*(1.5+(Q48-4)*0.6),""))))))))) | H72: =IF(G3=5,F72*M45,"") | I72: =IF(G3<5,"",G72*O47)
D73: =IF(G3=5,"0,5.l","") | F73: =IF(G3=5,0.0625,"") | G73: =G72 | H73: =IF(G3=5,F73*M45,"") | I73: =IF(G3<5,"",G73*O47)
D75: - Tiết diện có mômen dương bằng 0 cách gối tựa một đoạn:
D76: +, | E76: Tại nhịp biên: | G76: 0,15.lpb = | H76: 0.15 | I76: x | J76: =M9 -> 5.19 | K76: = | L76: =H76*J76 -> 0.7785 | M76: m;
D77: +, | E77: Tại nhịp giữa: | G77: 0,15.lp = | H77: 0.15 | I77: x | J77: =M12 -> 5.1 | K77: = | L77: =H77*J77 -> 0.765 | M77: m;
D78: - Tiết diện có mômen âm bằng 0 cách bên trái gối thứ hai một đoạn:
E79: x = k.lpb = | G79: =F49 -> 0.22277178 | H79: x | I79: =M9 -> 5.19 | J79: = | K79: =G79*I79 -> 1.1561856 | L79: m;
C80: b, Lực cắt
G81: =N36 -> 31.8059 | H81: =M9 -> 5.19 | I81: = | J81: =G81*H81*0.4 -> 66.029048 | K81: kN;
G83: =G81 -> 31.8059 | H83: =H81 -> 5.19 | I83: =I81 -> = | J83: =G83*H83*0.6 -> 99.043573 | K83: kN;
G85: =G83 -> 31.8059 | H85: =M12 -> 5.1 | I85: = | J85: =G85*H85/2 -> 81.105045 | K85: kN;
B86: 4, Tính cốt thép dọc
D87: Bêtông cấp độ bền B | G87: ='Nhập dữ liệu'!J13 -> 20 | H87: có Rb = | I87: ='Nhập Rs thep CV240,300,400 '!E52 -> 11.5 | J87: Mpa ; | K87: Rbt = | L87: ='Nhập Rs thep CV240,300,400 '!H52 -> 0.9 | M87: Mpa;
E88: cốt thép dọc nhóm | F88: ='Nhập Rs thep CV240,300,400 '!G54 -> CII | G88: có Rs = | H88: ='Nhập Rs thep CV240,300,400 '!J54 -> 260 | I88: Mpa; | J88: Rsc = | K88: ='Nhập Rs thep CV240,300,400 '!M54 -> 260 | L88: Mpa;
E89: cốt đai dùng nhóm | F89: ='Nhập Rs thep CV240,300,400 '!G53 -> CI | G89: . | H89: ='Nhập Rs thep CV240,300,400 '!P53 -> 170 | I89: Mpa;
C90: a, Với mômen âm
D91: Tính theo tiết diện chữ nhật | G91: b = | H91: ='Tính Bản'!Q11 -> 220 | I91: mm; | J91: h = | K91: ='Tính Bản'!N11 -> 500 | L91: mm.
E92: Giả thiết a = | F92: 30 | G92: mm, | H92: ho = | I92: =K91 -> 500 | J92: - | K92: =F92 -> 30 | L92: = | M92: =I92-K92 -> 470 | N92: mm.
C93: * | D93: Tại gối 2, với M = | F93: =ABS(I62) -> 61.255974 | G93: kNm,
G94: =F93 -> 61.255974 | H94: x | I94: 1000000
F95: ------------------------------------------------------------------------- = | K95: =G94*I94/(F96*G96*H96*H96) -> 0.10960547 | L95: =IF(K95<0.225,"<",IF(K95=0.225,"=",">")) -> < | O95: =IF(K95>0.3,"{Tiết diện dầm phụ chưa hợp lý, nên tăng chiều cao của dầm phụ và tính lại cốt thép dọc}","")
F96: =I87 -> 11.5 | G96: =H91 -> 220 | H96: =M92 -> 470 | I96: 2
H99: =K95 -> 0.10960547 | I99: = | J99: =0.5*(1+SQRT(1-2*H99)) -> 0.94181135
F101: =F93 -> 61.255974 | G101: x | H101: =1000000 -> 1000000
F102: --------------------------------------------------- = | I102: =F101*H101/(F103*G103*H103) -> 532.24712 | J102: mm2
F103: =H88 -> 260 | G103: =J99 -> 0.94181135 | H103: =M92 -> 470
H105: =I102 -> 532.24712
G106: ---------------------------------------------- .100% | K106: = | L106: =H105/(G107*I107) -> 0.0051474577 | O106: =IF(L106<0.001,"{ tại tiết diện bất kỳ của dầm phải không nhỏ hơn 0.1 %}","")
G107: =H91 -> 220 | H107: x | I107: =M92 -> 470
C108: =IF(G3>3,"* Tại gối 3, với M =","") | F108: =IF(G3>3,ABS(I69),"") | G108: =IF(G3>3,"kNm;","")
E109: =IF(G3>3,"a =","") | F109: =IF(G3>3,(F108*1000000/(I87*H91*M92*M92)),"") | G109: =IF(G3>3,"; z =","") | H109: =IF(G3>3,(0.5*(1+SQRT(1-2*F109))),"") | I109: =IF(G3>3,"; As =","") | J109: =IF(G3>3,((F108*1000000)/(H88*H109*M92)),"") | K109: =IF(G3>3,"mm^2 ;","") | L109: =IF(G3>3,"; m% =","") | M109: =IF(G3>3,(J109/(H91*K91)),"")
C110: b, Với mômen dương
D111: Tính theo tiết diện chữ T, có cánh nằm trong vùng nén, bề dày cánh | K111: h’f = | L111: ='Tính Bản'!M5 -> 90 | M111: mm;
E112: Giả thiết a = | F112: 30 | G112: mm, | H112: ho = | I112: =I92 -> 500 | J112: - | K112: =F112 -> 30 | L112: = | M112: =I112-K112 -> 470 | N112: mm.
D113: Độ vươn của cánh | F113: Sf = | G113: lấy không lớn hơn giá trị bé nhất trong các trị số sau:
D115: +, | E115: (1/6).lp = | F115: =1/6 -> 0.16666667 | G115: =M12 -> 5.1 | H115: = | I115: =G115/6 -> 0.85 | J115: m;
D116: +, | E116: Một nửa khoảng cách thông thủy giữa hai dầm phụ cạnh nhau:
E117: 0,5.lo = | F117: 0.5 | G117: ='Tính Bản'!L29 -> 2.38 | H117: = | I117: =G117/2 -> 1.19 | J117: m;
E118: Vậy Sf ≤ min( | F118: =I115 -> 0.85 | G118: ; | H118: =I117 -> 1.19 | I118: ) m = | J118: =MIN(F118,H118) -> 0.85 | K118: m.
D119: Chọn Sf = | F119: =J118*1000 -> 850 | G119: mm.
D120: Bề rộng cánh b’f = b +2Sf = | G120: =H91 -> 220 | H120: + | I120: =2*J118*1000 -> 1700 | J120: = | K120: =G120+I120 -> 1920 | L120: mm.
D121: Tính Mf = Rb . b’f .h’f .(ho -0,5h’f) =
D122: Mf = | E122: =I87 -> 11.5 | F122: =K120 -> 1920 | G122: =L111 -> 90 | H122: ( | I122: =M112 -> 470 | J122: - 0,5 x | K122: =L111 -> 90 | L122: ) = | M122: =E122*F122*G122*(I122-K122/2) -> 844560000 | N122: Nmm.
D123: Vậy M+max = | F123: =(H59) -> 77.962148 | G123: kNm | H123: =IF(F123<M122/1000000,"<",IF(F123=M122/1000000,"=",">")) -> < | I123: Mf = | J123: =M122/1000000 -> 844.56 | K123: kNm
...

Sheet Tính dầm chính
A1: IV. | B1: TÍNH DẦM CHÍNH
B2: 1, | C2: Sơ đồ tính
D3: Dầm chính là dầm liên tục | G3: ='Nhập dữ liệu'!E17 -> 4 | H3: nhịp, kích thước tiết diện dầm: hdc = | L3: ='Tính Bản'!N16 -> 700 | M3: mm, bdc= | N3: ='Tính Bản'!Q16 -> 300 | O3: mm.
D4: Tiết diện cột: bc x hc = | G4: ='Nhập dữ liệu'!D13 -> 400 | H4: ='Nhập dữ liệu'!E13 -> 400 | I4: mm. | J4: Nhịp tính toán ở nhịp bien và nhịp giữa đều bằng l = | P4: ='Nhập dữ liệu'!B13*3 -> 7.8 | Q4: m.
B13: 2, | C13: Tải trọng tính toán
D14: Trọng lượng bản thân dầm quy về các lực tập trung:
D15: Go = bdc(hdc – hb)g.n.l1 = | H15: ='Tính Bản'!Q16/1000 -> 0.3 | I15: ( | J15: ='Tính Bản'!N16/1000 -> 0.7 | K15: - | L15: ='Tính Bản'!M5/1000 -> 0.09 | M15: 25 | N15: ='Nhập dữ liệu'!G25 -> 1.1 | O15: ='Nhập dữ liệu'!B13 -> 2.6 | P15: = | Q15: =H15*(J15-L15)*M15*N15*O15 -> 13.0845 | R15: kN
D16: Tĩnh tải do dầm phụ truyền vào:
D17: G1 = gdp.l2 = | F17: ='Tính dầm phụ'!M32 -> 13.2159 | G17: ='Nhập dữ liệu'!C13 -> 5.4 | H17: = | I17: =F17*G17 -> 71.36586 | J17: kN.
D18: Tĩnh tải tác dụng tập trung:
D19: G = Go + G1 = | F19: =Q15 -> 13.0845 | G19: + | H19: =I17 -> 71.36586 | I19: = | J19: =F19+H19 -> 84.45036 | K19: kN.
D20: Hoạt tải tác dụng tập trung truyền vào từ dầm phụ:
D21: P = pdp . l2 = | F21: ='Tính dầm phụ'!M34 -> 18.59 | G21: ='Nhập dữ liệu'!C13 -> 5.4 | H21: = | I21: =F21*G21 -> 100.386 | J21: kN
B22: 3, | C22: Nội lực tính toán
C23: a, Xác định biểu đồ bao mômen
D24: Tìm các trường hợp tải trọng tác dụng gây bất lợi cho dầm (hình vẽ 9):
D25: Xác định biểu đồ mô men uốn do tĩnh tải G:
E26: Tra phụ lục 12, được hệ số a, ta có:
F27: MG =a.G.3l1 = a. | G27: =J19 -> 84.45036 | H27: .3. | I27: ='Nhập dữ liệu'!B13 -> 2.6 | J27: = a . | K27: =G27*3*I27 -> 658.71281 | L27: (kNm)
D28: Xác định các biểu đồ mômen uốn do các hoạt tải Pi tác dụng:
D29: Xét | E29: =IF(G3=2,2,IF(G3=3,5,IF(G3=4,6,""))) -> 6 | F29: trường hợp bất lợi của hoạt tải, xem hình….
D30: Ta có:
D31: Mpi =a.P.3l1 = | F31: a. | G31: =I21 -> 100.386 | H31: . 3 . | I31: ='Nhập dữ liệu'!B13 -> 2.6 | J31: = a . | K31: =G31*3*I31 -> 783.0108 | L31: (kNm)
F37: KS. VŨ ĐỒ ÁN. SĐT 0979860286
F39: CHUYÊN HD ĐỒ ÁN BÊ TÔNG 1, ÔN THI MÔN HỌC BÊ TÔNG 1, CƠ HỌC ĐẤT
D45: =IF(G3>2,"Trong sơ đồ Mp3 còn thiếu a để tính mômen uốn tại các tiết diện 1,2,3,4.") -> Trong sơ đồ Mp3 còn thiếu a để tính mômen uốn tại các tiết diện 1,2,3,4.
D46: Để tính toán tiến hành cắt rời các nhịp 1-2, 2-3. Nhịp 1 và 2 có tải trọng, tính Mo của dầm đơn giản kê lên hai gối tự do:
E47: Mo = P.l1 = | F47: =I21 -> 100.386 | G47: ='Nhập dữ liệu'!B13 -> 2.6 | H47: = | I47: =F47*G47 -> 261.0036 | J47: kNm.
D48: Dùng phương pháp treo biểu đồ, kết hợp các quan hệ tam giác đồng dạng (hình vẽ 9), xác định được giá trị mômen:
E50: =IF(G3>2,"M1 =","") -> M1 = | F50: =IF(G3>2,I47,"") -> 261.0036 | G50: =IF(G3>2,"-","") -> - | H50: =IF(G3=3,ABS(H73),IF(G3=4,ABS(H89),"")) -> 251.34647 | I50: =IF(G3>2,"x","") -> x | J50: =IF(G3>2,0.333333333333333,"") -> 0.33333333 | K50: =IF(G3>2,"=","") -> = | L50: =IF(G3>2,F50-H50*J50,"") -> 177.22144 | M50: =IF(G3>2,"kNm;","") -> kNm;
E51: =IF(G3>2,"M2 =","") -> M2 = | F51: =IF(G3>2,I47,"") -> 261.0036 | G51: =IF(G3>2,"-","") -> - | H51: =IF(G3=3,ABS(H73),IF(G3=4,ABS(H89),"")) -> 251.34647 | I51: =IF(G3>2,"x","") -> x | J51: =IF(G3>2,0.666666666666667,"") -> 0.66666667 | K51: =IF(G3>2,"=","") -> = | L51: =IF(G3>2,F51-H51*J51,"") -> 93.439289 | M51: =IF(G3>2,"kNm;","") -> kNm;
E52: =IF(G3>2,"M3 =","") -> M3 = | F52: =IF(G3>2,I47,"") -> 261.0036 | G52: =IF(G3>2,"-","") -> - | H52: =IF(G3>2,"(2/3).(","") -> (2/3).( | I52: =IF(G3=3,ABS(H73),IF(G3=4,ABS(H89),"")) -> 251.34647 | J52: =IF(G3>2,"-","") -> - | K52: =IF(G3=3,ABS(K73),IF(G3=4,ABS(K89),"")) -> 37.584518 | L52: =IF(G3>2,") -","") -> ) - | M52: =IF(G3>2,K52,"") -> 37.584518 | N52: =IF(G3>2,"=","") -> = | O52: =IF(G3>2,F52-(2/3)*(I52-K52)-M52,"") -> 80.911116 | P52: =IF(G3>2,"kNm;","") -> kNm;
E53: =IF(G3>2,"M4 =","") -> M4 = | F53: =IF(G3>2,I47,"") -> 261.0036 | G53: =IF(G3>2,"-","") -> - | H53: =IF(G3>2,"(1/3).(","") -> (1/3).( | I53: =IF(G3=3,ABS(H73),IF(G3=4,ABS(H89),"")) -> 251.34647 | J53: =IF(G3>2,"-","") -> - | K53: =IF(G3=3,ABS(K73),IF(G3=4,ABS(K89),"")) -> 37.584518 | L53: =IF(G3>2,") -","") -> ) - | M53: =IF(G3>2,K52,"") -> 37.584518 | N53: =IF(G3>2,"=","") -> = | O53: =IF(G3>2,F52-(1/3)*(I52-K52)-M52,"") -> 152.1651 | P53: =IF(G3>2,"kNm;","") -> kNm;
E54: =IF(G3<>2,"","Bảng 4.1. Tính toán và tổ hợp mômen") | J54: =IF(G3<>2,"","(dầm 2 nhịp)")
D55: Mô | E55: men | F55: =IF(G3=2,"1","") | G55: =IF(G3=2,"2","") | H55: =IF(G3=2,"B","") | I55: =IF(G3=2,"3","") | J55: =IF(G3=2,"4","") | K55: =IF(G3=2,"C","")
D56: (kN | E56: m)
D57: MG | E57: a | F57: =IF(G3=2,0.222,"") | G57: =IF(G3=2,0.111,"") | H57: =IF(G3=2,-0.333,"") | I57: =IF(G3=2,0.111,"") | J57: =IF(G3=2,0.222,"") | K57: =IF(G3=2,0,"")
E58: M | F58: =IF(G3=2,F57*K27,"") | G58: =IF(G3=2,G57*K27,"") | H58: =IF(G3=2,H57*K27,"") | I58: =IF(G3=2,I57*K27,"") | J58: =IF(G3=2,J57*K27,"") | K58: =IF(G3=2,K57*K27,"")
D59: MP1 | E59: a | F59: =IF(G3=2,0.278,"") | G59: =IF(G3=2,0.222,"") | H59: =IF(G3=2,-0.267,"") | I59: =IF(G3=2,-0.111,"") | J59: =IF(G3=2,-0.056,"") | K59: =IF(G3=2,0,"")
E60: M | F60: =IF(G3=2,F59*K31,"") | G60: =IF(G3=2,G59*K31,"") | H60: =IF(G3=2,H59*K31,"") | I60: =IF(G3=2,I59*K31,"") | J60: =IF(G3=2,J59*K31,"") | K60: =IF(G3=2,K59*K31,"")
D61: M | E61: max | F61: =IF(G3=2,F58+F60,"") | G61: bàng này | H61: bỏ nhé | I61: =IF(G3=2,I58+I60,"") | J61: =IF(G3=2,J58+J60,"") | K61: =IF(G3=2,K58+K60,"")
D62: M | E62: min | F62: =IF(G3=2,F61,"") | G62: =IF(G3=2,G61,"") | H62: =IF(G3=2,H61,"") | I62: =IF(G3=2,I61,"") | J62: =IF(G3=2,J61,"") | K62: =IF(G3=2,K61,"")
E63: =IF(G3<>3,"","Bảng 4.1. Tính toán và tổ hợp mômen") | J63: =IF(G3<>3,"","(dầm 3 nhịp)")
D64: Mô | E64: men | F64: =IF(G3=3,"1","") | G64: =IF(G3=3,"2","") | H64: =IF(G3=3,"B","") | I64: =IF(G3=3,"3","") | J64: =IF(G3=3,"4","") | K64: =IF(G3=3,"C","")
D65: (kN | E65: m)
D66: MG | E66: a | F66: =IF(G3=3,0.244,"") | G66: =IF(G3=3,0.156,"") | H66: =IF(G3=3,-0.267,"") | I66: =IF(G3=3,0.067,"") | J66: =IF(G3=3,0.067,"") | K66: =IF(G3=3,-0.267,"")
E67: M | F67: =IF(G3=3,F66*K27,"") | G67: =IF(G3=3,G66*K27,"") | H67: =IF(G3=3,H66*K27,"") | I67: =IF(G3=3,I66*K27,"") | J67: =IF(G3=3,J66*K27,"") | K67: =IF(G3=3,K66*K27,"")
D68: MP1 | E68: a | F68: =IF(G3=3,0.289,"") | G68: =IF(G3=3,0.244,"") | H68: =IF(G3=3,-0.133,"") | I68: =IF(G3=3,-0.133,"") | J68: =IF(G3=3,"","") | K68: =IF(G3=3,"","")
E69: M | F69: =IF(G3=3,F68*K31,"") | G69: =IF(G3=3,G68*K31,"") | H69: =IF(G3=3,H68*K31,"") | I69: =IF(G3=3,I68*K31,"") | J69: =IF(G3=3,I69,"") | K69: =IF(G3=3,H69,"")
D70: MP2 | E70: a | F70: =IF(G3=3,-0.044,"") | G70: =IF(G3=3,-0.089,"") | H70: =IF(G3=3,-0.133,"") | I70: =IF(G3=3,0.2,"") | J70: =IF(G3=3,0.2,"") | K70: =IF(G3=3,"","")
E71: M | F71: =IF(G3=3,F70*K31,"") | G71: =IF(G3=3,G70*K31,"") | H71: =IF(G3=3,H70*K31,"") | I71: =IF(G3=3,I70*K31,"") | J71: =IF(G3=3,J70*K31,"") | K71: =IF(G3=3,H71,"")
D72: MP3 | E72: a | F72: =IF(G3=3,"","") | G72: =IF(G3=3,"","") | H72: =IF(G3=3,-0.311,"") | I72: =IF(G3=3,"","") | J72: =IF(G3=3,"","") | K72: =IF(G3=3,-0.08,"")
E73: M | F73: =IF(G3=3,I47+H73/3,"") | G73: =IF(G3=3,I47+H73*2/3,"") | H73: =IF(G3=3,H72*K31,"") | I73: =IF(G3=3,I47+(H73-K73)*2/3+K73,"") | J73: =IF(G3=3,I47+(H73-K73)/3+K73,"") | K73: =IF(G3=3,K72*K31,"")
D74: MP4 | E74: a | F74: =IF(G3=3,"","") | G74: =IF(G3=3,"","") | H74: =IF(G3=3,0.044,"") | I74: =IF(G3=3,"","") | J74: =IF(G3=3,"","") | K74: =IF(G3=3,-0.178,"")
E75: M | F75: =IF(G3=3,H75/3,"") | G75: =IF(G3=3,2*F75,"") | H75: =IF(G3=3,H74*K31,"") | I75: =IF(G3=3,H75+(K75-H75)/3,"") | J75: =IF(G3=3,H75+2*(K75-H75)/3,"") | K75: =IF(G3=3,K74*K31,"")
D76: M | E76: max | F76: =IF(G3=3,F67+MAX(F69,F71,F73,F75),"") | G76: =IF(G3=3,G67+MAX(G69,G71,G73,G75),"") | H76: =IF(G3=3,H67+MAX(H69,H71,H73,H75),"") | I76: =IF(G3=3,I67+MAX(I69,I71,I73,I75),"") | J76: =IF(G3=3,J67+MAX(J69,J71,J73,J75),"") | K76: =IF(G3=3,K67+MAX(K69,K71,K73,K75),"")
D77: M | E77: min | F77: =IF(G3=3,F67+MIN(F69,F71,F73,F75),"") | G77: =IF(G3=3,G67+MIN(G69,G71,G73,G75),"") | H77: =IF(G3=3,H67+MIN(H69,H71,H73,H75),"") | I77: =IF(G3=3,I67+MIN(I69,I71,I73,I75),"") | J77: =IF(G3=3,J67+MIN(J69,J71,J73,J75),"") | K77: =IF(G3=3,K67+MIN(K69,K71,K73,K75),"")
E79: =IF(G3<>4,"","Bảng 4.1. Tính toán và tổ hợp mômen") -> Bảng 4.1. Tính toán và tổ hợp mômen | J79: =IF(G3<>4,"","(dầm 4 nhịp)") -> (dầm 4 nhịp)
D80: Mô | E80: men | F80: 1 | G80: 2 | H80: B | I80: 3 | J80: 4 | K80: C
D81: (kN | E81: m)
D82: MG | E82: a | F82: =IF(G3=4,0.238,"") -> 0.238 | G82: =IF(G3=4,0.143,"") -> 0.143 | H82: =IF(G3=4,-0.286,"") -> -0.286 | I82: =IF(G3=4,0.079,"") -> 0.079 | J82: =IF(G3=4,0.111,"") -> 0.111 | K82: =IF(G3=4,-0.19,"") -> -0.19
E83: M | F83: =IF(G3=4,F82*K27,"") -> 156.77365 | G83: =IF(G3=4,G82*K27,"") -> 94.195932 | H83: =IF(G3=4,H82*K27,"") -> -188.39186 | I83: =IF(G3=4,I82*K27,"") -> 52.038312 | J83: =IF(G3=4,J82*K27,"") -> 73.117122 | K83: =IF(G3=4,K82*K27,"") -> -125.15543
D84: MP1 | E84: a | F84: =IF(G3=4,0.286,"") -> 0.286 | G84: =IF(G3=4,0.238,"") -> 0.238 | H84: =IF(G3=4,-0.143,"") -> -0.143 | I84: =IF(G3=4,-0.127,"") -> -0.127 | J84: =IF(G3=4,-0.111,"") -> -0.111 | K84: =IF(G3=4,-0.095,"") -> -0.095
E85: M | F85: =IF(G3=4,F84*K31,"") -> 223.94109 | G85: =IF(G3=4,G84*K31,"") -> 186.35657 | H85: =IF(G3=4,H84*K31,"") -> -111.97054 | I85: =IF(G3=4,I84*K31,"") -> -99.442372 | J85: =IF(G3=4,J84*K31,"") -> -86.914199 | K85: =IF(G3=4,K84*K31,"") -> -74.386026
D86: MP2 | E86: a | F86: =IF(G3=4,-0.048,"") -> -0.048 | G86: =IF(G3=4,-0.095,"") -> -0.095 | H86: =IF(G3=4,-0.143,"") -> -0.143 | I86: =IF(G3=4,0.206,"") -> 0.206 | J86: =IF(G3=4,0.222,"") -> 0.222 | K86: =IF(G3=4,-0.095,"") -> -0.095
E87: M | F87: =IF(G3=4,F86*K31,"") -> -37.584518 | G87: =IF(G3=4,G86*K31,"") -> -74.386026 | H87: =IF(G3=4,H86*K31,"") -> -111.97054 | I87: =IF(G3=4,I86*K31,"") -> 161.30022 | J87: =IF(G3=4,J86*K31,"") -> 173.8284 | K87: =IF(G3=4,K86*K31,"") -> -74.386026
D88: MP3 | E88: a | F88: =IF(G3=4,"","") | G88: =IF(G3=4,"","") | H88: =IF(G3=4,-0.321,"") -> -0.321 | I88: =IF(G3=4,"","") | J88: =IF(G3=4,"","") | K88: =IF(G3=4,-0.048,"") -> -0.048
E89: M | F89: =IF(G3=4,I47+H89/3,"") -> 177.22144 | G89: =IF(G3=4,I47+H89*2/3,"") -> 93.439289 | H89: =IF(G3=4,H88*K31,"") -> -251.34647 | I89: =IF(G3=4,(I47+(H89-K89)*2/3+K89),"") -> 80.911116 | J89: =IF(G3=4,(I47+(H89-K89)*1/3+K89),"") -> 152.1651 | K89: =IF(G3=4,K88*K31,"") -> -37.584518
D90: MP4 | E90: a | F90: =IF(G3=4,-0.031,"") -> -0.031 | G90: =IF(G3=4,-0.063,"") -> -0.063 | H90: =IF(G3=4,-0.095,"") -> -0.095 | I90: =IF(G3=4,"","") | J90: =IF(G3=4,"","") | K90: =IF(G3=4,-0.286,"") -> -0.286
E91: M | F91: =IF(G3=4,F90*K31,"") -> -24.273335 | G91: =IF(G3=4,G90*K31,"") -> -49.32968 | H91: =IF(G3=4,H90*K31,"") -> -74.386026 | I91: =IF(G3=4,(I47+(H91-K91)*2/3+K91),"") -> 136.76589 | J91: =IF(G3=4,(I47+(H91-K91)*1/3+K91),"") -> 86.914199 | K91: =IF(G3=4,K90*K31,"") -> -223.94109
D92: MP5 | E92: a | F92: =IF(G3=4,"","") | G92: =IF(G3=4,"","") | H92: =IF(G3=4,-0.19,"") -> -0.19 | I92: =IF(G3=4,"","") | J92: =IF(G3=4,"","") | K92: =IF(G3=4,0.095,"") -> 0.095
E93: M | F93: =IF(G3=4,I47+H93*1/3,"") -> 211.41292 | G93: =IF(G3=4,(I47+(H93*2/3)),"") -> 161.82223 | H93: =IF(G3=4,H92*K31,"") -> -148.77205 | I93: =IF(G3=4,H93/2,"") -> -74.386026 | J93: =IF(G3=4,0,"") -> 0 | K93: =IF(G3=4,K92*K31,"") -> 74.386026
D94: MP6 | E94: a | F94: =IF(G3=4,"","") | G94: =IF(G15=4,"","") | H94: =IF(G3=4,0.036,"") -> 0.036 | I94: =IF(G3=4,"","") | J94: =IF(G3=4,"","") | K94: =IF(G3=4,-0.143,"") -> -0.143
E95: M | F95: =IF(G3=4,H95/3,"") -> 9.3961296 | G95: =IF(G3=4,2*H95/3,"") -> 18.792259 | H95: =IF(G3=4,H94*K31,"") -> 28.188389 | I95: =IF(G3=4,-G95,"") -> -18.792259 | J95: =IF(G3=4,2*I95-H95,"") -> -65.772907 | K95: =IF(G3=4,3*I95-2*H95,"") -> -112.75356
D96: M | E96: max | F96: =IF(G3=4,F83+MAX(F85,F87,F89,F91,F93,F95),"") -> 380.71474 | G96: =IF(G3=4,G83+MAX(G85,G87,G89,G91,G93,G95),"") -> 280.5525 | H96: =IF(G3=4,H83+MAX(H85,H87,H89,H91,H93,H95),"") -> -160.20347 | I96: =IF(G3=4,I83+MAX(I85,I87,I89,I91,I93,I95),"") -> 213.33854 | J96: =IF(G3=4,J83+MAX(J85,J87,J89,J91,J93,J95),"") -> 246.94552 | K96: =IF(G3=4,K83+MAX(K85,K87,K89,K91,K93,K95),"") -> -50.769408
D97: M | E97: min | F97: =IF(G3=4,F83+MIN(F85,F87,F89,F91,F93,F95),"") -> 119.18913 | G97: =IF(G3=4,G83+MIN(G85,G87,G89,G91,G93,G95),"") -> 19.809906 | H97: =IF(G3=4,H83+MIN(H85,H87,H89,H91,H93,H95),"") -> -439.73833 | I97: =IF(G3=4,I83+MIN(I85,I87,I89,I91,I93,I95),"") -> -47.40406 | J97: =IF(G3=4,J83+MIN(J85,J87,J89,J91,J93,J95),"") -> -13.797077 | K97: =IF(G3=4,K83+MIN(K85,K87,K89,K91,K93,K95),"") -> -349.09652
D120: Biểu đồ bao mômen:
D121: Tung độ của biểu đồ bao mômen:
E122: Mmax = MG + max(MPi); | H122: Mmin = MG + min(MPi)
D123: Tính toán Mmax và Mmin cho từng tiết diện và ghi vào 2 dòng cuối của bảng 4.1
D124: -
D125: -
D126: -
D127: Xác định mô men ở mép gối: từ hình bao mô men trên gối B, thấy rằng phía bên phải độ dốc của
D128: biểu đồ Mmin bé hơn phía bên trái. Tính mô men mép bên phía phải gối B sẽ có giá trị tuyệt đối lớn hơn.
E133: M3 = | F133: =IF(G3=3,I67,IF(G3=4,I83)) -> 52.038312 | G133: + | H133: =IF(G3=3,I73,IF(G3=4,I89)) -> 80.911116 | I133: = | J133: =F133+H133 -> 132.94943 | K133: kNm.
G134: ='Nhập dữ liệu'!E13/1000 -> 0.4 | H134: .( | I134: =F135 -> 439.73833 | J134: + | K134: =J133 -> 132.94943 | L134: )
F135: =IF(G3=3,ABS(H77),IF(G3=4,ABS(H97))) -> 439.73833 | G135: - ------------------------------------------------------------------------------ = | M135: =F135-(G134*(I134+K134)/(2*J136)) -> 395.68543 | N135: kNm.
I136: 2 . | J136: ='Nhập dữ liệu'!B13 -> 2.6
D137: -
D138: -
D139: =IF(G3>3,"Tương tự tại gối C: ","") -> Tương tự tại gối C:
E141: =IF(G3=4,"M4 =","") -> M4 = | F141: =IF(G3=4,J83,"") -> 73.117122 | G141: =IF(G3=4,"+","") -> + | H141: =IF(G3=4,J89,"") -> 152.1651 | I141: =IF(G3=4,"=","") -> = | J141: =IF(G3=4,F141+H141,"") -> 225.28222 | K141: =IF(G3=4,"kNm;","") -> kNm;
G142: =IF(G3=4,'Nhập dữ liệu'!E13/1000,"") -> 0.4 | H142: =IF(G3=4,".(","") -> .( | I142: =IF(G3=4,F143,"") -> 349.09652 | J142: =IF(G3=4,"+","") -> + | K142: =IF(G3=4,J141,"") -> 225.28222 | L142: =IF(G3=4,")","") -> )
F143: =IF(G3=4,ABS(K97),"") -> 349.09652 | G143: =IF(G3=4,"- ------------------------------------------------------------------------------ =","") -> - ------------------------------------------------------------------------------ = | M143: =IF(G3=4,F143-(G142*(I142+K142)/(2*J144)),"") -> 304.91354 | N143: =IF(G3=4,"kNm.","") -> kNm.
I144: =IF(G3=4,"2 .","") -> 2 . | J144: =IF(G3=4,'Nhập dữ liệu'!B13,"") -> 2.6
C145: b, Xác định biểu đồ bao lực cắt
D146: Tung độ của biểu đồ bao lực cắt:
D147: - Do tác dụng của tĩnh tải G: QG = bG = b x | H147: =J19 -> 84.45036 | I147: (kN).
D148: - Do tác dụng của hoạt tải Pi: QPi = bPi = bi x | H148: =I21 -> 100.386 | I148: (kN).
...

Sheet TINH Q DAM CHINH
E1: 4 NHỊP DẦM CHÍNH THÌ XEM BẢNG NÀY
D2: G= | E2: ='Tính dầm chính'!J19 -> 84.45036 | F2: P= | G2: ='Tính dầm chính'!I21 -> 100.386 | Q2: 3 NHỊP DẦM CHÍNH THÌ XEM BẢNG NÀY
E3: Tính toán và tổ hợp lực cắt
C4: S¬ ®å | E4: §o¹n | N4: S¬ ®å | P4: §o¹n
E5: Bªn ph¶i gèi A | F5: Gi÷a nhÞp biªn | G5: Bªn tr¸i gèi B | H5: Bªn ph¶i gèi B | J5: Gi÷a nhÞp gi÷a | K5: Bªn tr¸i gèi C | P5: Bªn ph¶i gèi A | Q5: Gi÷a nhÞp biªn | R5: Bªn tr¸i gèi B | S5: Bªn ph¶i gèi B | T5: Gi÷a nhÞp gi÷a | U5: Bªn tr¸i gèi C
C6: Qg | D6: b | E6: 0.714 | G6: -1.286 | H6: 1.005 | K6: -0.995 | N6: Qg | O6: b | P6: 0.733 | R6: -1.267 | S6: 1
D7: Q | E7: =E6*E2 -> 60.297557 | F7: =(E7+G7)/2 -> -24.152803 | G7: =G6*E2 -> -108.60316 | H7: =H6*E2 -> 84.872612 | J7: =(H7+K7)/2 -> 0.4222518 | K7: =K6*E2 -> -84.028108 | O7: Q | P7: =P6*E2 -> 61.902114 | Q7: =(P7+R7)/2 -> -22.548246 | R7: =R6*E2 -> -106.99861 | S7: =S6*E2 -> 84.45036 | T7: =(S7+U7)/2 -> 84.45036 | U7: =S7 -> 84.45036
C8: Qp1 | D8: b | E8: 0.857 | G8: -1.143 | H8: 0.048 | K8: 0 | N8: Qp1 | O8: b | P8: 0.867 | R8: -1.133
D9: Q | E9: =E8*G2 -> 86.030802 | F9: =(E9+G9)/2 -> -14.355198 | G9: =G8*G2 -> -114.7412 | H9: =H8*G2 -> 4.818528 | O9: Q | P9: =P8*M13 -> 87.034662 | Q9: =(P9+R9)/2 -> -13.351338 | R9: =R8*M13 -> -113.73734
C10: Qp2 | D10: b | E10: -0.143 | G10: -0.143 | H10: 1.048 | K10: -0.952 | N10: Qp2 | O10: b | P10: -0.133 | R10: -0.133 | S10: 1
D11: Q | E11: =E10*G2 -> -14.355198 | F11: =(E11+G11)/2 -> -14.355198 | G11: =G10*G2 -> -14.355198 | H11: =H10*G2 -> 105.20453 | J11: =(H11+K11)/2 -> 4.818528 | K11: =K10*G2 -> -95.567472 | O11: Q | P11: =P10*M13 -> -13.351338 | Q11: =(P11+R11)/2 -> -13.351338 | R11: =R10*M13 -> -13.351338 | S11: =S10*M13 -> 100.386 | T11: =(S11+U11)/2 -> 43.517331 | U11: =R11 -> -13.351338
C12: Qp3 | D12: b | E12: 0.679 | G12: -1.321 | H12: 1.274 | K12: -0.726 | M12: P | N12: Qp3 | O12: b | P12: 0.689 | R12: -1.311 | S12: 1.222 | U12: -0.778
D13: Q | E13: =E12*G2 -> 68.162094 | F13: =(E13+G13)/2 -> -32.223906 | G13: =G12*G2 -> -132.60991 | H13: =H12*G2 -> 127.89176 | J13: =(H13+K13)/2 -> 27.505764 | K13: =K12*G2 -> -72.880236 | M13: ='Tính dầm chính'!I21 -> 100.386 | O13: Q | P13: =P12*M13 -> 69.165954 | Q13: =(P13+R13)/2 -> -31.220046 | R13: =R12*M13 -> -131.60605 | S13: =S12*M13 -> 122.67169 | T13: =(S13+U13)/2 -> 22.285692 | U13: =U12*M13 -> -78.100308
C14: Qp4 | D14: b | E14: -0.095 | G14: -0.095 | H14: 0.81 | K14: -1.19 | N14: Qp4 | O14: b | R14: 0.044 | S14: -0.222
D15: Q | E15: =E14*G2 -> -9.53667 | F15: =(E15+G15)/2 -> -9.53667 | G15: =G14*G2 -> -9.53667 | H15: =H14*G2 -> 81.31266 | J15: =(H15+K15)/2 -> -19.07334 | K15: =K14*G2 -> -119.45934 | O15: Q | P15: =P14*R2 -> 0 | Q15: =(P15+R15)/2 -> 2.208492 | R15: =R14*M13 -> 4.416984 | S15: =S14*M13 -> -22.285692 | T15: =(S15+U15)/2 -> -8.934354 | U15: =R15 -> 4.416984
C16: Qp5 | D16: b | E16: 0.81 | G16: -1.19 | H16: 0.286 | K16: 0.286
D17: Q | E17: =E16*G2 -> 81.31266 | F17: =(E17+G17)/2 -> -19.07334 | G17: =G16*M13 -> -119.45934 | H17: =H16*M13 -> 28.710396 | J17: =(H17+K17)/2 -> 28.710396 | K17: =K16*M13 -> 28.710396
C18: Qp6 | D18: b | F18: 0 | G18: 0.036 | J18: 0
D19: Q | F19: 0 | G19: =G18*M13 -> 3.613896 | J19: 0 | K19: =K18*'Tính dầm chính'!N31 -> 0
C20: Qmin | E20: =E7+E25 -> 45.942359 | F20: =F7+F26 -> -33.689473 | G20: =G7+G26 -> -104.98927 | H20: =H25+H7 -> 89.69114 | J20: =J25+J7 -> -18.651088 | K20: =K26+K7 -> -55.317712 | N20: Qmin | P20: =P7+P11 -> 48.550776 | Q20: =Q7+Q15 -> -20.339754 | R20: =R7+R15 -> -102.58162 | S20: =S7+S15 -> 62.164668 | T20: =T7+T15 -> 75.516006
C22: Qmax | E22: =E26+E7 -> 146.32836 | F22: =F25+F7 -> -56.376709 | G22: =G25+G7 -> -241.21307 | H22: =H26+H7 -> 212.76438 | J22: =J26+J7 -> 29.132648 | K22: =K25+K7 -> -203.48745 | N22: Qmax | P22: =P7+P9 -> 148.93678 | Q22: =Q7+Q13 -> -53.768292 | R22: =R7+R13 -> -238.60465 | S22: =S7+S11 -> 184.83636 | T22: =T7+T11 -> 127.96769
E25: =MIN(E9,E11,E13,E15,E17,E19) -> -14.355198 | F25: =MIN(F9,F11,F13,F15,F17,F19) -> -32.223906 | G25: =MIN(G9,G11,G13,G15,G17,G19) -> -132.60991 | H25: =MIN(H9,H11,H13,H15,H17,H19) -> 4.818528 | J25: =MIN(J9,J11,J13,J15,J17,J19) -> -19.07334 | K25: =MIN(K9,K11,K13,K15,K17,K19) -> -119.45934
E26: =MAX(E17,E15,E13,E11,E9,E19) -> 86.030802 | F26: =MAX(F17,F15,F13,F11,F9) -> -9.53667 | G26: =MAX(G17,G15,G13,G11,G9,G19) -> 3.613896 | H26: =MAX(H17,H15,H13,H11,H9) -> 127.89176 | J26: =MAX(J17,J15,J13,J11,J9) -> 28.710396 | K26: =MAX(K17,K15,K13,K11,K9) -> 28.710396
E27: =E7+E26 -> 146.32836
C28: 4.Tính cốt thép dọc chịu lực
D29: Rb= | E29: ='Nhập Rs thep CV240,300,400 '!E52 -> 11.5 | F29: Mpa | J29: KS. VŨ ĐỒ ÁN. SĐT 0979860286
D30: Rs= | E30: ='Nhập Rs thep CV240,300,400 '!J54 -> 260 | F30: Mpa
D31: xR= | E31: 0.65 | J31: CHUYÊN HD ĐỒ ÁN BÊ TÔNG 1, ÔN THI MÔN HỌC BÊ TÔNG 1, CƠ HỌC ĐẤT
D32: zR= | E32: 0.675
D33: aR= | E33: 0.439
C34: a. với momen âm.
D35: tính theo tiết diện chữ nhật | F35: b= | G35: ='Tính dầm chính'!N3 -> 300 | H35: mm
F36: h= | G36: ='Tính dầm chính'!L3 -> 700 | H36: mm
E37: giả thiết a= | F37: 70 | G37: mm | H37: cộng thêm đường kính thanh thép lớp nhất dầm phụ do thanh thép đặt dưới thép dầm phụ
E38: suy ra ho= | F38: =G36-F37 -> 630 | G38: mm
D39: Tại gối B, với Mmg= | F39: ='Tính dầm chính'!M135 -> 395.68543 | G39: kNm
J41: =F39 -> 395.68543 | K41: x | L41: 1000000
H42: ------------------------------------------------------------------------- = | N42: =J41*L41/(H43*J43*K43*K43) -> 0.28896807 | O42: =IF(N42<0.225,"<",IF(N42=0.225,"=",">")) -> >
H43: =E29 -> 11.5 | J43: =G35 -> 300 | K43: =F38 -> 630 | L43: 2
K46: =N42 -> 0.28896807 | L46: = | M46: =0.5*(1+SQRT(1-2*K46)) -> 0.82483221
H48: =F39 -> 395.68543 | J48: x | K48: =1000000 -> 1000000
H49: --------------------------------------------------- = | L49: =H48*K48/(H50*J50*K50) -> 2928.6707 | M49: mm2
H50: =E30 -> 260 | J50: =M46 -> 0.82483221 | K50: =K43 -> 630
K52: =L49 -> 2928.6707
J53: ---------------------------------------------- .100% | N53: = | O53: =K52/(J54*L54) -> 0.015495612
J54: =J43 -> 300 | K54: x | L54: =K43 -> 630
D55: Tại gối C, với Mmg= | F55: ='Tính dầm chính'!M143 -> 304.91354 | G55: kNm
C56: ( Nếu DC 4 nhịp thì lấy gối C) | F56: am= | G56: =F55*1000000/(H43*J43*K43*K43) -> 0.22267759 | H56: z= | J56: =0.5*(1+SQRT(1-2*G56)) -> 0.8723724 | K56: As= | L56: =F55*K48/(H50*J56*K50) -> 2133.8353 | M56: mm2 | N56: m%= | O56: =L56/(J54*L54) -> 0.011290134
C58: b, Với mômen dương
D59: Tính theo tiết diện chữ T, có cánh nằm trong vùng nén, bề dày cánh | L59: h’f = | M59: ='Tính Bản'!M5 -> 90 | N59: mm;
C60: a= | D60: 70 | F60: 40 | G60: mm, | H60: ho = | J60: =G36 -> 700 | K60: - | L60: =D60 -> 70 | M60: = | N60: =J60-L60 -> 630 | O60: mm.
D61: Độ vươn của cánh | F61: Sf = | G61: lấy không lớn hơn giá trị bé nhất trong các trị số sau:
D63: +, | E63: (1/6).ld = | F63: =1/6 -> 0.16666667 | G63: ='Nhập dữ liệu'!B13*3 -> 7.8 | H63: = | J63: =G63/6 -> 1.3 | K63: m;
D64: +, | E64: Một nửa khoảng cách thông thủy giữa hai dầm phụ cạnh nhau:
E65: 0,5.lo = | F65: 0.5 | G65: ='Nhập dữ liệu'!C13-'Tính Bản'!Q16/1000 -> 5.1 | H65: = | J65: =G65/2 -> 2.55 | K65: m;
E66: Vậy Sf ≤ min( | F66: =J63 -> 1.3 | G66: ; | H66: =J65 -> 2.55 | J66: ) m = | K66: =MIN(F66,H66) -> 1.3 | L66: m.
D67: Chọn Sf = | F67: =K66*1000 -> 1300 | G67: mm.
D68: Bề rộng cánh b’f = b +2Sf = | G68: =J43 -> 300 | H68: + | J68: =2*K66*1000 -> 2600 | K68: = | L68: =G68+J68 -> 2900 | M68: mm.
D69: Tính Mf = Rb . b’f .h’f .(ho -0,5h’f) =
D70: Mf = | E70: =H43 -> 11.5 | F70: =L68 -> 2900 | G70: =M59 -> 90 | H70: ( | J70: =N60 -> 630 | K70: - 0,5 x | L70: =M59 -> 90 | M70: ) = | N70: =E70*F70*G70*(J70-L70/2)/1000000 -> 1755.8775 | O70: KNm.
D71: Vậy M+max = | F71: =IF('Tính dầm chính'!G3=4,'Tính dầm chính'!F96,IF('Tính dầm chính'!G3=3,'Tính dầm chính'!F76,"")) -> 380.71474 | G71: kNm | H71: =IF(F71<N70/1000000,"<",IF(F71=N70/1000000,"=",">")) -> > | J71: Mf = | K71: =N70 -> 1755.8775 | L71: kNm
D72: ---> Trục trung hòa | F72: =IF(H71="<","đi qua cánh.","điquasườn.") -> điquasườn.
D73: Tính theo tiết diện chữ nhật b = b’f = | H73: =L68 -> 2900 | J73: mm, h = | K73: =J60 -> 700 | L73: mm, a= | M73: =F60 -> 40 | N73: mm, ho = | O73: =N60 -> 630 | P73: mm.
C74: * Tại nhịp biên, với | F74: M+ = | G74: =F71 -> 380.71474 | H74: kNm:
H75: =G74 -> 380.71474 | J75: x | K75: 1000000
G76: ---------------------------------------------------------------- = | M76: =H75*K75/(G77*H77*J77*J77) -> 0.028762243 | N76: <
G77: =E29 -> 11.5 | H77: =H73 -> 2900 | J77: =O73 -> 630 | K77: 2
J80: =M76 -> 0.028762243 | K80: = | L80: =0.5*(1+SQRT(1-2*J80)) -> 0.98540589
G82: =G74 -> 380.71474 | H82: x | J82: 1000000
G83: --------------------------------------------- = | K83: =G82*J82/(G84*H84*J84) -> 2358.6888 | L83: mm2
G84: =E30 -> 260 | H84: =L80 -> 0.98540589 | J84: =O73 -> 630
J86: =K83 -> 2358.6888
H87: ------------------------------------------------- .100% | M87: = | N87: =J86/(H88*K88) -> 0.012479835
H88: =J54 -> 300 | J88: x | K88: =O73 -> 630
D89: Tại nhịp giữa, với M= | F89: =IF('Tính dầm chính'!G3=4,'Tính dầm chính'!J96,IF('Tính dầm chính'!G3=3,'Tính dầm chính'!J76,"")) -> 246.94552 | G89: kNm
F90: am= | G90: =F89*K75/(G77*H77*J77*J77) -> 0.018656244 | H90: z= | J90: =0.5*(1+SQRT(1-2*G90)) -> 0.9905832 | K90: As= | L90: =F89*J82/(G84*J90*J84) -> 1521.9357 | M90: mm2 | N90: m%= | O90: =L90/(H88*K88) -> 0.0080525696
D92: Tiết | E92: diện | F92: Nhịp biên | G92: Gối B | H92: nhịp 2 | J92: Gối C | K92: nhịp giữa
D93: As tính | E93: toán mm2 | F93: =K83 -> 2358.6888 | G93: =L49 -> 2928.6707 | H93: =L90 -> 1521.9357 | J93: =L56 -> 2133.8353 | K93: =IF(#REF!>4,K88,"") -> #REF!
D94: Bố trí cốt thép | F94: 2f25 + 2f22 | G94: 4f25 + 2f28 | H94: 2f16 + 1f16 | J94: 2f16 + 1f18
D95: Diện tích | E95: mm2 | F95: 2213 | G95: 3195 | H95: 603 | J95: 657
C97: kiểm tra lại ho
E98: * với cốt thép chịu momen dương nhịp biên, đặt 1 lớp, chọn chiều dày lớp bảo vệ 30mm > đường kính cốt thép chọn max
D99: a= | E99: 30 | F99: + | G99: 0.5x | H99: 25 | J99: = | K99: =E99+H99/2 -> 42.5 | L99: nên ho | M99: = | N99: =G36-K99 -> 657.5 | O99: mm | P99: > | Q99: ho tính toán thiên về an toàn
E100: * với cốt thép chịu momen âm ở Gối
F101: *chỗ đặt 1 lớp thép
G102: a= | H102: ='Tính dầm phụ'!F92 -> 30 | J102: + | K102: =MAX('Tính dầm phụ'!G151,'Tính dầm phụ'!I151) -> 16 | L102: + | M102: 28 | N102: x0.5 | O102: = | P102: =H102+K102+0.5*M102 -> 60 | Q102: mm | R102: nên ho | S102: = | T102: =G36-P102 -> 640 | U102: mm
H103: trị số này | J103: > | K103: ho tính toán thiên về an toàn
F104: *chỗ đặt 2 lớp thép
O105: phi max=d
F106: 2 phi lớp 1 bên ngoài | H106: 28 | K106: 2 phi lớp 2 | M106: 25 | O106: =MAX(H106,M106,H107) -> 28
F107: 2 phi lớp 1 bên trong | H107: 25
G108: As lớp 1 | H108: = | J108: =2*(3.14/4)*(H106*H106+H107*H107) -> 2212.13 | L108: As lớp 2 | M108: = | N108: =2*3.14*M106*M106/4 -> 981.25
G109: a1 | H109: = | J109: =H102+K102+0.5*O106 -> 60 | L109: a2 | M109: = | N109: =J109+O106/2+O106+M106/2 -> 114.5
H111: a | J111: = | K111: =(J108*J109+N108*N109)/(J108+N108) -> 76.746559 | L111: nên ho | M111: = | N111: =G36-K111 -> 623.25344 | O111: mm | P111: > | Q111: ho tính toán thiên về an toàn
C112: 5, Tính toán cốt thép ngang
D113: Từ biểu đồ bao lực cắt ta có:
C115: bên trái gối B | G115: =ABS(IF('Tính dầm chính'!G3=4,G22,IF('Tính dầm chính'!G3=3,R22,""))) -> 241.21307 | H115: kN. Lấy giá trị này dùng trong tính toán cốt đai
E117: Theo vật liệu đã chọn: Rb = | H117: ='Nhập Rs thep CV240,300,400 '!E52 -> 11.5 | J117: Mpa; Rbt = | K117: ='Nhập Rs thep CV240,300,400 '!H52 -> 0.9 | L117: Mpa; Rsw = | M117: ='Nhập Rs thep CV240,300,400 '!P53 -> 170 | N117: Mpa.
E118: Kích thước dầm: b= | G118: ='Tính Bản'!Q16 -> 300 | H118: mm; h = | J118: ='Tính Bản'!N16 -> 700 | K118: mm; ho = | L118: =N99 -> 657.5 | M118: mm.
E119: Kiểm tra điều kiện Qmin < Q < 0,3.Rb.b.ho
...
