Workbook

Sheet Nhập Rs thep CV240,300,400 
E1: THUYẾT MINH ĐỒ ÁN SÀN SƯỜN BÊ TÔNG CỐT THÉP TOÀN KHỐI
A2: I. | B2: SỐ LIỆU TÍNH TOÁN
B3: 1, Sơ đồ kết cấu sàn | F3: (theo hình vẽ)
B26: 2, Kích thước
C27: Tính từ trục tường và trục dầm: L1 = | H27: ='Nhập dữ liệu'!B13 -> 2.6 | I27: m; | J27: L2 = | K27: ='Nhập dữ liệu'!C13 -> 5.4 | L27: m;
C28: Tường chịu lực có chiều dày | G28: bt = | H28: ='Nhập dữ liệu'!D19/1000 -> 0.34 | I28: m;
C29: Cột bê tông cốt thép có tiết diện bc x hc | H29: ='Nhập dữ liệu'!D13/1000 -> 0.4 | I29: ='Nhập dữ liệu'!E13/1000 -> 0.4 | J29: m.
B30: 3, Cấu tạo mặt sàn
C31: Gồm 4 lớp như hình vẽ
B50: 4, | C50: Vật liệu
C51: - Bê tông cấp độ bền B | G51: ='Nhập dữ liệu'!J13 -> 20 | H51: theo cường độ chịu nén có:
D52: Rb = | E52: =IF(G51=12.5,7.5,IF(G51=15,8.5,IF(G51=20,11.5,IF(G51=25,14.5,IF(G51=30,17,IF(G51=35,19.5,IF(G51=40,22,IF(G51=45,25,IF(G51=50,27.5,IF(G51=55,30,IF(G51=60,33,"nhập giá trị vào"))))))))))) -> 11.5 | F52: Mpa; | G52: Rbt = | H52: =IF(G51=12.5,0.66,IF(G51=15,0.75,IF(G51=20,0.9,IF(G51=25,1.05,IF(G51=30,1.2,IF(G51=35,1.3,IF(G51=40,1.4,IF(G51=45,1.45,IF(G51=50,1.55,IF(G51=55,1.6,IF(G51=60,1.65,"nhập giá trị vào"))))))))))) -> 0.9 | I52: Mpa; | J52: Eb = | K52: =IF(G51=12.5,21,IF(G51=15,23,IF(G51=20,27,IF(G51=25,30,IF(G51=30,32.5,IF(G51=35,34.5,IF(G51=40,36,IF(G51=45,37.5,IF(G51=50,39,IF(G51=55,39.5,IF(G51=60,40,"nhập giá trị vào"))))))))))) -> 27 | L52: .10^3 | M52: Mpa;
C53: - Cốt thép bản và đai dầm nhóm CB 240T | G53: ='Nhập dữ liệu'!G29 -> CI | H53: có : | I53: Rs = | J53: 210 | K53: Mpa; | L53: Rsc = | M53: 210 | N53: Mpa; | O53: Rsw = | P53: 170 | Q53: Mpa; | R53: Es = | S53: =IF(OR(G53="a-I",G53="a-ii",G53="ci",G53="cii"),21,IF(OR(G53="a-iii",G53="ciii"),20,IF(OR(G53="civ",G53="a-iv",G53="a-v",G53="a-vii"),19,IF(G53="a-iiib",18)))) -> 21 | T53: .10^4 | U53: Mpa;
C54: - Cốt thép dọc dầm nhóm CB 300V hoặc CB 400V | G54: ='Nhập dữ liệu'!G30 -> CII | H54: có : | I54: Rs = | J54: 260 | K54: Mpa; | L54: Rsc = | M54: 260 | N54: Mpa; | O54: Rsw = | P54: 210 | Q54: Mpa; | R54: Es = | S54: =IF(OR(G54="a-I",G54="a-ii",G54="ci",G54="cii"),21,IF(OR(G54="a-iii",G54="ciii"),20,IF(OR(G54="civ",G54="a-iv",G54="a-v",G54="a-vii"),19,IF(G54="a-iiib",18)))) -> 21 | T54: .10^4 | U54: Mpa;
B55: >>>>>>>>>>>>>>>>>>>>>>>>>>>>>>>>>>>>>>>>>>>>>>>>>>>>>>>>>>>>>>>>>>>>>>>>>>>>>>>>>>>>>>>>>>>>>>>>>>>>>>>>>>>>>>>>>>>>>>>>>>>>>>>>>>>>>>>>>>>>>.

Sheet Nhập dữ liệu
G3: KS. VŨ ĐỒ ÁN. SĐT 0979860286
G5: CHUYÊN HD ĐỒ ÁN BÊ TÔNG 1, ÔN THI MÔN HỌC BÊ TÔNG 1, CƠ HỌC ĐẤT
D8: NHẬP SỐ LIỆU ĐƯỢC GIAO
A9: I: | B9: SỐ LIỆU TÍNH TOÁN
B11: L1 (m) | C11: L2 (m) | D11: Tiết diện cột | G11: Hoạt tải tiêu chuẩn | I11: Cấp độ bền
D12: bc x hc | E12: (mm) | F12: ptc | G12: (kN/m2) | I12: của bêtông
B13: 2.6 | C13: 5.4 | D13: 400 | E13: 400 | G13: 5.5 | I13: B | J13: 20
B14: =IF(B13="","{nhập vào}","") | C14: =IF(C13="","{nhập vào}","") | D14: =IF(D13="","{chọn}","") | E14: =IF(E13="","{chọn}","") | G14: =IF(G13="","{nhập vào}","") | J14: =IF(J13="","{chọn}","")
B15: Hệ số vượt tải của hoạt tải: n = | F15: 1.3
B16: Dầm phụ mấy nhịp : | E16: 3 | F16: nhịp
B17: Dầm chính mấy nhịp : | E17: 4 | F17: nhịp
B19: Bề dày tường là : | D19: 340 | E19: (mm)
B21: các lớp hoàn thiện sàn | E21: bề dày | F21: dung trọng | G21: hệ số
E22: mm | F22: (kN/m3) | G22: vượt tải
B23: Lớp gạch lát dày | E23: 20 | F23: 22 | G23: 1.1
B24: Lớp vữa lót | E24: 30 | F24: 20 | G24: 1.3
B25: Sàn bêtông cốt thép | E25: hb | F25: 25 | G25: 1.1
B26: Lớp vữa trát trần | E26: 15 | F26: 20 | G26: 1.3
A28: II: | B28: VẬT LIỆU SỬ DỤNG
B29: - Thép bản và đai dầm dùng nhóm : | G29: CI
B30: - Thép dọc dầm dùng nhóm : | G30: CII
A32: >>>>>>>>>>>>>>>>>>>>>>>>>>>>>>>>>>>>>>>>>>>>>>>>>>>>>>>>>>>>>>>>>>>>>>>>>>>>>>>>>>>>>>>>>>>>>>>>>>>>>>>>>>>>>>>>>>>>>>>>>>>>>>>>>>>>>

Sheet Tính Bản
A1: II. | C1: TÍNH BẢN
B2: 1, | C2: Chọn kích thước các cấu kiện
C3: - Chiều dày của bản:
F4: 1.1
F5: ------------ | G5: ='Nhập dữ liệu'!B13*1000 -> 2600 | H5: = | I5: =F4*G5/F6 -> 81.714286 | J5: mm; | K5: Chọn | L5: hb= | M5: 90 | N5: mm. | U5: =INT(I5) -> 81 | V5: =MOD(U5,10) -> 1
F6: 35
D8: Trong đó D = | F8: =F4 -> 1.1 | G8: với tải trọng trung bình, m = | J8: =F6 -> 35 | K8: với bản liên tục.
C9: - Chọn tiết diện dầm phụ:
F10: 1
F11: ------------ | G11: ='Nhập dữ liệu'!C13*1000 -> 5400 | H11: = | I11: =G11/F12 -> 385.71429 | J11: mm; | L11: Chọn | M11: hdp= | N11: 500 | O11: mm; | P11: bdp= | Q11: 220 | R11: mm; | U11: =INT(I11) -> 385 | V11: =MOD(U11,100) -> 85
F12: 14
C14: - Chọn tiết diện dầm chính:
F15: 1
F16: ------------ | G16: x 3 x | H16: ='Nhập dữ liệu'!B13*1000 -> 2600 | I16: = | J16: =H16*3/F17 -> 709.09091 | K16: mm; | L16: Chọn | M16: hdc= | N16: 700 | O16: mm; | P16: bdc= | Q16: 300 | R16: mm; | U16: =INT(J16) -> 709 | V16: =MOD(U16,100) -> 9
F17: 11
B19: 2, | C19: Sơ đồ tính | H19: ='Nhập dữ liệu'!C13 -> 5.4
D20: - Xét tỷ số 2 cạnh ô bản: | H20: ---------- = | I20: =H19/H21 -> 2.0769231 | J20: =IF(I20>2,"> 2 , xem bản làm việc theo một phương","xem lại số liệu đầu vào") -> > 2 , xem bản làm việc theo một phương
H21: ='Nhập dữ liệu'!B13 -> 2.6
D22: - Cắt một dải bản rộng b = | G22: 1000 | H22: mm, vuông góc với dầm phụ và xem dải bản làm việc như một dầm liên tục
D23: ( hình vẽ 1a, 2b)
C24: Nhịp tính toán của bản:
J25: =Q11/1000 -> 0.22 | K25: ='Nhập dữ liệu'!D19/1000 -> 0.34 | L25: =M5/1000 -> 0.09
D26: - Nhịp biên: | I26: ='Nhập dữ liệu'!B13 -> 2.6 | J26: - -------- - -------- + -------- = | M26: =I26-J25/2-K25/2+L25/2 -> 2.365 | N26: m;
J27: 2 | K27: 2 | L27: 2
D29: - Nhịp giữa: | F29: lo = l1 – bdp = | H29: ='Nhập dữ liệu'!B13 -> 2.6 | I29: - | J29: =Q11/1000 -> 0.22 | K29: = | L29: =H29-J29 -> 2.38 | M29: m;
H30: =MAX(M26,L29) -> 2.38 | I30: - | J30: =MIN(M26,L29) -> 2.365
D31: - Chênh lệch giữa các nhịp là: | H31: ------------------------------------ . 100 % = | L31: =(H30-J30)/I32 -> 0.0063424947 | M31: < 10%
I32: =M26 -> 2.365
B34: 3, | C34: Tải trọng tính toán
D35: Tải trọng của bản gồm tĩnh tả và hoạt tải
D36: Tĩnh tải được tính toán theo bảng 2.1
E38: Bảng 2.1. Xác định tĩnh tải
G39: bề dày | H39: dung | L39: hệ số
D40: Các lớp cấu tạo bản | G40: (mm) | H40: trọng | J40: giá trị tiêu chuẩn | L40: độ tin cậy | N40: giá trị tính toán
H41: (kN/m3) | J41: (kN/m2) | N41: (kN/m2)
D42: Lớp gạch lát | G42: ='Nhập dữ liệu'!E23 -> 20 | H42: ='Nhập dữ liệu'!F23 -> 22 | J42: =G42*H42/1000 -> 0.44 | L42: ='Nhập dữ liệu'!G23 -> 1.1 | N42: =J42*L42 -> 0.484
D43: Lớp vữa lót | G43: ='Nhập dữ liệu'!E24 -> 30 | H43: ='Nhập dữ liệu'!F24 -> 20 | J43: =G43*H43/1000 -> 0.6 | L43: ='Nhập dữ liệu'!G24 -> 1.3 | N43: =J43*L43 -> 0.78
D44: Sàn bê tông cốt thép | G44: =M5 -> 90 | H44: ='Nhập dữ liệu'!F25 -> 25 | J44: =G44*H44/1000 -> 2.25 | L44: ='Nhập dữ liệu'!G25 -> 1.1 | N44: =J44*L44 -> 2.475
D45: Lớp vữa trát trần | G45: ='Nhập dữ liệu'!E26 -> 15 | H45: ='Nhập dữ liệu'!F26 -> 20 | J45: =G45*H45/1000 -> 0.3 | L45: ='Nhập dữ liệu'!G26 -> 1.3 | N45: =J45*L45 -> 0.39
E46: Tổng cộng | G46: =SUM(G42:G45) -> 155 | J46: =SUM(J42:J45) -> 3.59 | N46: =SUM(N42:N45) -> 4.129
...

Sheet Tính dầm phụ
A1: III. | B1: TÍNH DẦM PHỤ
B2: 1, | C2: Sơ đồ tính
D3: - Dầm phụ là dầm liên tục | G3: ='Nhập dữ liệu'!E16 -> 3 | H3: nhịp đối xứng.
D4: - Xét một nửa dầm bên trái của dầm (hình vẽ)
D5: - Dầm gối lên tường một đoạn không nhỏ hơn 220 mm vì vậy trong tính toán lấy | M5: Sd = | N5: 220 | O5: mm.
D6: - Bề rộng của dầm chính | G6: bdc= | H6: ='Tính Bản'!Q16 -> 300 | I6: mm
C7: * Nhịp tính toán của dầm phụ:
J8: =H6/1000 -> 0.3 | K8: ='Nhập dữ liệu'!D19/1000 -> 0.34 | L8: =N5/1000 -> 0.22
D9: - Nhịp biên: | H9: ='Nhập dữ liệu'!C13 -> 5.4 | I9: - | J9: ------- - | K9: -------- + | L9: -------- = | M9: =H9-J8/J10-K8/K10+L8/2 -> 5.19 | N9: m
J10: 2 | K10: 2 | L10: 2
D12: - Nhịp giữa: | G12: lp = l1 – bdc = | I12: =H9 -> 5.4 | J12: - | K12: =H6/1000 -> 0.3 | L12: = | M12: =I12-K12 -> 5.1 | N12: m.
D14: - Chênh lệch giữa các nhịp: | G14: ( | H14: =M9 -> 5.19 | I14: - | J14: =M12 -> 5.1 | K14: ). 100% | L14: = | M14: =(H14-J14)/I15 -> 0.01734104 | N14: < 10%
I15: =M9 -> 5.19
D19: KS. VŨ ĐỒ ÁN. SĐT 0979860286
D21: CHUYÊN HD ĐỒ ÁN BÊ TÔNG 1, ÔN THI MÔN HỌC BÊ TÔNG 1, CƠ HỌC ĐẤT
B27: 2, | C27: Tải trọng tính toán
C28: * Tĩnh tải
D29: - Tải trọng bản thân dầm (không kể phần bản dày | J29: ='Tính Bản'!$M$5 -> 90 | K29: mm):
E30: godc= bdp (hdp –hb).g.n = | G30: ='Tính Bản'!$Q$11/1000 -> 0.22 | H30: . ( | I30: ='Tính Bản'!$N$11/1000 -> 0.5 | J30: - | K30: ='Tính Bản'!$M$5/1000 -> 0.09 | L30: ) . | M30: 25 | N30: ='Nhập dữ liệu'!G25 -> 1.1 | O30: = | P30: =G30*(I30-K30)*M30*N30 -> 2.4805 | Q30: kN/m
D31: - Tĩnh tải truyền từ bản: | G31: gb . l1 = | H31: ='Tính Bản'!$F$48 -> 4.129 | I31: x | J31: ='Nhập dữ liệu'!B13 -> 2.6 | K31: = | L31: =H31*J31 -> 10.7354 | M31: kN/m
D32: - Tĩnh tải toàn phần: | G32: gdp = godp +gbl1 = | I32: =P30 -> 2.4805 | J32: + | K32: =L31 -> 10.7354 | L32: = | M32: =I32+K32 -> 13.2159 | N32: kN/m.
C33: * Hoạt tải
D34: - Hoạt tải truyền từ bản: | G34: pdp = pb.l1 = | I34: ='Tính Bản'!$K$49 -> 7.15 | J34: x | K34: ='Nhập dữ liệu'!B13 -> 2.6 | L34: = | M34: =I34*K34 -> 18.59 | N34: kN/m.
C36: * Tải trọng tính toán toàn phần: | H36: qdp = gdp + pdp = | J36: =M32 -> 13.2159 | K36: + | L36: =M34 -> 18.59 | M36: = | N36: =J36+L36 -> 31.8059 | O36: kN/m.
D38: - Tỷ số: | E38: pdp | F38: = | G38: =M34 -> 18.59 | H38: = | I38: =G38/G39 -> 1.406639
E39: gdp | G39: =M32 -> 13.2159
B40: 3, Nội lực tính toán
C41: a, Mômen uốn
D42: - Tung độ hình bao mômen ( nhánh dương): | J42: 2
D43: +, | E43: Tại nhịp biên: | I43: =N36 -> 31.8059 | J43: =M9 -> 5.19 | K43: = | L43: b1 . | M43: =I43*J43*J43 -> 856.7269 | N43: kNm
J44: 2
D45: +, | E45: Tại nhịp giữa: | I45: =N36 -> 31.8059 | J45: =M12 -> 5.1 | K45: = | L45: b1 . | M45: =I45*J45*J45 -> 827.27146 | N45: kNm
L46: 2
D47: - Tung độ hình bao mômen ( nhánh âm): | K47: =N36 -> 31.8059 | L47: =J45 -> 5.1 | M47: = | N47: b2 . | O47: =K47*L47*L47 -> 827.27146 | P47: kNm
D48: Tra phụ lục 11 quyển " SÀN SƯỜN BÊ TÔNG CỐT THÉP TOÀN KHỐI", với tỷ số | M48: pdp | N48: / | O48: gdp | P48: = | Q48: =I38 -> 1.406639
D49: có hệ số k = | F49: =IF(Q48<=0.5,0.167,IF(AND(Q48>0.5,Q48<1),0.167+(Q48-0.5)*0.066,IF(AND(Q48>1,Q48<1.5),0.2+(Q48-1)*0.056,IF(AND(Q48>1.5,Q48<2),0.228+(Q48-1.5)*0.044,IF(AND(Q48>2,Q48<2.5),0.25+(Q48-2)*0.04,IF(AND(Q48>2.5,Q48<3),0.27+(Q48-2.5)*0.03,IF(AND(Q48>3,Q48<4,0.285+(Q48-3)*0.058),IF(AND(Q48>4,Q48<5),0.314+(Q48-4)*0.6038,"")))))))) -> 0.22277178 | G49: và các hệ số | I49: b1 , b2 | J49: kết quả tính toán được trình bày trong bảng 3.1
D51: Bảng 3.1. Tính toán hình bao mômen của dầm phụ
F53: giá trị | G53: b | H53: Tung độ M (kNm)
D54: Nhịp | E54: tiết diện | F54: b1 | G54: b2 | H54: M+ | I54: M-
D55: Nhịp | E55: biên
...

Sheet Tính dầm chính
A1: IV. | B1: TÍNH DẦM CHÍNH
B2: 1, | C2: Sơ đồ tính
D3: Dầm chính là dầm liên tục | G3: ='Nhập dữ liệu'!E17 -> 4 | H3: nhịp, kích thước tiết diện dầm: hdc = | L3: ='Tính Bản'!N16 -> 700 | M3: mm, bdc= | N3: ='Tính Bản'!Q16 -> 300 | O3: mm.
D4: Tiết diện cột: bc x hc = | G4: ='Nhập dữ liệu'!D13 -> 400 | H4: ='Nhập dữ liệu'!E13 -> 400 | I4: mm. | J4: Nhịp tính toán ở nhịp bien và nhịp giữa đều bằng l = | P4: ='Nhập dữ liệu'!B13*3 -> 7.8 | Q4: m.
B13: 2, | C13: Tải trọng tính toán
D14: Trọng lượng bản thân dầm quy về các lực tập trung:
D15: Go = bdc(hdc – hb)g.n.l1 = | H15: ='Tính Bản'!Q16/1000 -> 0.3 | I15: ( | J15: ='Tính Bản'!N16/1000 -> 0.7 | K15: - | L15: ='Tính Bản'!M5/1000 -> 0.09 | M15: 25 | N15: ='Nhập dữ liệu'!G25 -> 1.1 | O15: ='Nhập dữ liệu'!B13 -> 2.6 | P15: = | Q15: =H15*(J15-L15)*M15*N15*O15 -> 13.0845 | R15: kN
D16: Tĩnh tải do dầm phụ truyền vào:
D17: G1 = gdp.l2 = | F17: ='Tính dầm phụ'!M32 -> 13.2159 | G17: ='Nhập dữ liệu'!C13 -> 5.4 | H17: = | I17: =F17*G17 -> 71.36586 | J17: kN.
D18: Tĩnh tải tác dụng tập trung:
D19: G = Go + G1 = | F19: =Q15 -> 13.0845 | G19: + | H19: =I17 -> 71.36586 | I19: = | J19: =F19+H19 -> 84.45036 | K19: kN.
D20: Hoạt tải tác dụng tập trung truyền vào từ dầm phụ:
D21: P = pdp . l2 = | F21: ='Tính dầm phụ'!M34 -> 18.59 | G21: ='Nhập dữ liệu'!C13 -> 5.4 | H21: = | I21: =F21*G21 -> 100.386 | J21: kN
B22: 3, | C22: Nội lực tính toán
C23: a, Xác định biểu đồ bao mômen
D24: Tìm các trường hợp tải trọng tác dụng gây bất lợi cho dầm (hình vẽ 9):
D25: Xác định biểu đồ mô men uốn do tĩnh tải G:
E26: Tra phụ lục 12, được hệ số a, ta có:
F27: MG =a.G.3l1 = a. | G27: =J19 -> 84.45036 | H27: .3. | I27: ='Nhập dữ liệu'!B13 -> 2.6 | J27: = a . | K27: =G27*3*I27 -> 658.71281 | L27: (kNm)
D28: Xác định các biểu đồ mômen uốn do các hoạt tải Pi tác dụng:
D29: Xét | E29: =IF(G3=2,2,IF(G3=3,5,IF(G3=4,6,""))) -> 6 | F29: trường hợp bất lợi của hoạt tải, xem hình….
D30: Ta có:
D31: Mpi =a.P.3l1 = | F31: a. | G31: =I21 -> 100.386 | H31: . 3 . | I31: ='Nhập dữ liệu'!B13 -> 2.6 | J31: = a . | K31: =G31*3*I31 -> 783.0108 | L31: (kNm)
F37: KS. VŨ ĐỒ ÁN. SĐT 0979860286
F39: CHUYÊN HD ĐỒ ÁN BÊ TÔNG 1, ÔN THI MÔN HỌC BÊ TÔNG 1, CƠ HỌC ĐẤT
D45: =IF(G3>2,"Trong sơ đồ Mp3 còn thiếu a để tính mômen uốn tại các tiết diện 1,2,3,4.") -> Trong sơ đồ Mp3 còn thiếu a để tính mômen uốn tại các tiết diện 1,2,3,4.
D46: Để tính toán tiến hành cắt rời các nhịp 1-2, 2-3. Nhịp 1 và 2 có tải trọng, tính Mo của dầm đơn giản kê lên hai gối tự do:
E47: Mo = P.l1 = | F47: =I21 -> 100.386 | G47: ='Nhập dữ liệu'!B13 -> 2.6 | H47: = | I47: =F47*G47 -> 261.0036 | J47: kNm.
D48: Dùng phương pháp treo biểu đồ, kết hợp các quan hệ tam giác đồng dạng (hình vẽ 9), xác định được giá trị mômen:
E50: =IF(G3>2,"M1 =","") -> M1 = | F50: =IF(G3>2,I47,"") -> 261.0036 | G50: =IF(G3>2,"-","") -> - | H50: =IF(G3=3,ABS(H73),IF(G3=4,ABS(H89),"")) -> 251.34647 | I50: =IF(G3>2,"x","") -> x | J50: =IF(G3>2,0.333333333333333,"") -> 0.33333333 | K50: =IF(G3>2,"=","") -> = | L50: =IF(G3>2,F50-H50*J50,"") -> 177.22144 | M50: =IF(G3>2,"kNm;","") -> kNm;
E51: =IF(G3>2,"M2 =","") -> M2 = | F51: =IF(G3>2,I47,"") -> 261.0036 | G51: =IF(G3>2,"-","") -> - | H51: =IF(G3=3,ABS(H73),IF(G3=4,ABS(H89),"")) -> 251.34647 | I51: =IF(G3>2,"x","") -> x | J51: =IF(G3>2,0.666666666666667,"") -> 0.66666667 | K51: =IF(G3>2,"=","") -> = | L51: =IF(G3>2,F51-H51*J51,"") -> 93.439289 | M51: =IF(G3>2,"kNm;","") -> kNm;
E52: =IF(G3>2,"M3 =","") -> M3 = | F52: =IF(G3>2,I47,"") -> 261.0036 | G52: =IF(G3>2,"-","") -> - | H52: =IF(G3>2,"(2/3).(","") -> (2/3).( | I52: =IF(G3=3,ABS(H73),IF(G3=4,ABS(H89),"")) -> 251.34647 | J52: =IF(G3>2,"-","") -> - | K52: =IF(G3=3,ABS(K73),IF(G3=4,ABS(K89),"")) -> 37.584518 | L52: =IF(G3>2,") -","") -> ) - | M52: =IF(G3>2,K52,"") -> 37.584518 | N52: =IF(G3>2,"=","") -> = | O52: =IF(G3>2,F52-(2/3)*(I52-K52)-M52,"") -> 80.911116 | P52: =IF(G3>2,"kNm;","") -> kNm;
E53: =IF(G3>2,"M4 =","") -> M4 = | F53: =IF(G3>2,I47,"") -> 261.0036 | G53: =IF(G3>2,"-","") -> - | H53: =IF(G3>2,"(1/3).(","") -> (1/3).( | I53: =IF(G3=3,ABS(H73),IF(G3=4,ABS(H89),"")) -> 251.34647 | J53: =IF(G3>2,"-","") -> - | K53: =IF(G3=3,ABS(K73),IF(G3=4,ABS(K89),"")) -> 37.584518 | L53: =IF(G3>2,") -","") -> ) - | M53: =IF(G3>2,K52,"") -> 37.584518 | N53: =IF(G3>2,"=","") -> = | O53: =IF(G3>2,F52-(1/3)*(I52-K52)-M52,"") -> 152.1651 | P53: =IF(G3>2,"kNm;","") -> kNm;
E54: =IF(G3<>2,"","Bảng 4.1. Tính toán và tổ hợp mômen") | J54: =IF(G3<>2,"","(dầm 2 nhịp)")
D55: Mô | E55: men | F55: =IF(G3=2,"1","") | G55: =IF(G3=2,"2","") | H55: =IF(G3=2,"B","") | I55: =IF(G3=2,"3","") | J55: =IF(G3=2,"4","") | K55: =IF(G3=2,"C","")
D56: (kN | E56: m)
D57: MG | E57: a | F57: =IF(G3=2,0.222,"") | G57: =IF(G3=2,0.111,"") | H57: =IF(G3=2,-0.333,"") | I57: =IF(G3=2,0.111,"") | J57: =IF(G3=2,0.222,"") | K57: =IF(G3=2,0,"")
E58: M | F58: =IF(G3=2,F57*K27,"") | G58: =IF(G3=2,G57*K27,"") | H58: =IF(G3=2,H57*K27,"") | I58: =IF(G3=2,I57*K27,"") | J58: =IF(G3=2,J57*K27,"") | K58: =IF(G3=2,K57*K27,"")
D59: MP1 | E59: a | F59: =IF(G3=2,0.278,"") | G59: =IF(G3=2,0.222,"") | H59: =IF(G3=2,-0.267,"") | I59: =IF(G3=2,-0.111,"") | J59: =IF(G3=2,-0.056,"") | K59: =IF(G3=2,0,"")
E60: M | F60: =IF(G3=2,F59*K31,"") | G60: =IF(G3=2,G59*K31,"") | H60: =IF(G3=2,H59*K31,"") | I60: =IF(G3=2,I59*K31,"") | J60: =IF(G3=2,J59*K31,"") | K60: =IF(G3=2,K59*K31,"")
...

Sheet TINH Q DAM CHINH
E1: 4 NHỊP DẦM CHÍNH THÌ XEM BẢNG NÀY
D2: G= | E2: ='Tính dầm chính'!J19 -> 84.45036 | F2: P= | G2: ='Tính dầm chính'!I21 -> 100.386 | Q2: 3 NHỊP DẦM CHÍNH THÌ XEM BẢNG NÀY
E3: Tính toán và tổ hợp lực cắt
C4: S¬ ®å | E4: §o¹n | N4: S¬ ®å | P4: §o¹n
E5: Bªn ph¶i gèi A | F5: Gi÷a nhÞp biªn | G5: Bªn tr¸i gèi B | H5: Bªn ph¶i gèi B | J5: Gi÷a nhÞp gi÷a | K5: Bªn tr¸i gèi C | P5: Bªn ph¶i gèi A | Q5: Gi÷a nhÞp biªn | R5: Bªn tr¸i gèi B | S5: Bªn ph¶i gèi B | T5: Gi÷a nhÞp gi÷a | U5: Bªn tr¸i gèi C
C6: Qg | D6: b | E6: 0.714 | G6: -1.286 | H6: 1.005 | K6: -0.995 | N6: Qg | O6: b | P6: 0.733 | R6: -1.267 | S6: 1
D7: Q | E7: =E6*E2 -> 60.297557 | F7: =(E7+G7)/2 -> -24.152803 | G7: =G6*E2 -> -108.60316 | H7: =H6*E2 -> 84.872612 | J7: =(H7+K7)/2 -> 0.4222518 | K7: =K6*E2 -> -84.028108 | O7: Q | P7: =P6*E2 -> 61.902114 | Q7: =(P7+R7)/2 -> -22.548246 | R7: =R6*E2 -> -106.99861 | S7: =S6*E2 -> 84.45036 | T7: =(S7+U7)/2 -> 84.45036 | U7: =S7 -> 84.45036
C8: Qp1 | D8: b | E8: 0.857 | G8: -1.143 | H8: 0.048 | K8: 0 | N8: Qp1 | O8: b | P8: 0.867 | R8: -1.133
D9: Q | E9: =E8*G2 -> 86.030802 | F9: =(E9+G9)/2 -> -14.355198 | G9: =G8*G2 -> -114.7412 | H9: =H8*G2 -> 4.818528 | O9: Q | P9: =P8*M13 -> 87.034662 | Q9: =(P9+R9)/2 -> -13.351338 | R9: =R8*M13 -> -113.73734
C10: Qp2 | D10: b | E10: -0.143 | G10: -0.143 | H10: 1.048 | K10: -0.952 | N10: Qp2 | O10: b | P10: -0.133 | R10: -0.133 | S10: 1
D11: Q | E11: =E10*G2 -> -14.355198 | F11: =(E11+G11)/2 -> -14.355198 | G11: =G10*G2 -> -14.355198 | H11: =H10*G2 -> 105.20453 | J11: =(H11+K11)/2 -> 4.818528 | K11: =K10*G2 -> -95.567472 | O11: Q | P11: =P10*M13 -> -13.351338 | Q11: =(P11+R11)/2 -> -13.351338 | R11: =R10*M13 -> -13.351338 | S11: =S10*M13 -> 100.386 | T11: =(S11+U11)/2 -> 43.517331 | U11: =R11 -> -13.351338
C12: Qp3 | D12: b | E12: 0.679 | G12: -1.321 | H12: 1.274 | K12: -0.726 | M12: P | N12: Qp3 | O12: b | P12: 0.689 | R12: -1.311 | S12: 1.222 | U12: -0.778
D13: Q | E13: =E12*G2 -> 68.162094 | F13: =(E13+G13)/2 -> -32.223906 | G13: =G12*G2 -> -132.60991 | H13: =H12*G2 -> 127.89176 | J13: =(H13+K13)/2 -> 27.505764 | K13: =K12*G2 -> -72.880236 | M13: ='Tính dầm chính'!I21 -> 100.386 | O13: Q | P13: =P12*M13 -> 69.165954 | Q13: =(P13+R13)/2 -> -31.220046 | R13: =R12*M13 -> -131.60605 | S13: =S12*M13 -> 122.67169 | T13: =(S13+U13)/2 -> 22.285692 | U13: =U12*M13 -> -78.100308
C14: Qp4 | D14: b | E14: -0.095 | G14: -0.095 | H14: 0.81 | K14: -1.19 | N14: Qp4 | O14: b | R14: 0.044 | S14: -0.222
D15: Q | E15: =E14*G2 -> -9.53667 | F15: =(E15+G15)/2 -> -9.53667 | G15: =G14*G2 -> -9.53667 | H15: =H14*G2 -> 81.31266 | J15: =(H15+K15)/2 -> -19.07334 | K15: =K14*G2 -> -119.45934 | O15: Q | P15: =P14*R2 -> 0 | Q15: =(P15+R15)/2 -> 2.208492 | R15: =R14*M13 -> 4.416984 | S15: =S14*M13 -> -22.285692 | T15: =(S15+U15)/2 -> -8.934354 | U15: =R15 -> 4.416984
C16: Qp5 | D16: b | E16: 0.81 | G16: -1.19 | H16: 0.286 | K16: 0.286
D17: Q | E17: =E16*G2 -> 81.31266 | F17: =(E17+G17)/2 -> -19.07334 | G17: =G16*M13 -> -119.45934 | H17: =H16*M13 -> 28.710396 | J17: =(H17+K17)/2 -> 28.710396 | K17: =K16*M13 -> 28.710396
C18: Qp6 | D18: b | F18: 0 | G18: 0.036 | J18: 0
D19: Q | F19: 0 | G19: =G18*M13 -> 3.613896 | J19: 0 | K19: =K18*'Tính dầm chính'!N31 -> 0
C20: Qmin | E20: =E7+E25 -> 45.942359 | F20: =F7+F26 -> -33.689473 | G20: =G7+G26 -> -104.98927 | H20: =H25+H7 -> 89.69114 | J20: =J25+J7 -> -18.651088 | K20: =K26+K7 -> -55.317712 | N20: Qmin | P20: =P7+P11 -> 48.550776 | Q20: =Q7+Q15 -> -20.339754 | R20: =R7+R15 -> -102.58162 | S20: =S7+S15 -> 62.164668 | T20: =T7+T15 -> 75.516006
C22: Qmax | E22: =E26+E7 -> 146.32836 | F22: =F25+F7 -> -56.376709 | G22: =G25+G7 -> -241.21307 | H22: =H26+H7 -> 212.76438 | J22: =J26+J7 -> 29.132648 | K22: =K25+K7 -> -203.48745 | N22: Qmax | P22: =P7+P9 -> 148.93678 | Q22: =Q7+Q13 -> -53.768292 | R22: =R7+R13 -> -238.60465 | S22: =S7+S11 -> 184.83636 | T22: =T7+T11 -> 127.96769
E25: =MIN(E9,E11,E13,E15,E17,E19) -> -14.355198 | F25: =MIN(F9,F11,F13,F15,F17,F19) -> -32.223906 | G25: =MIN(G9,G11,G13,G15,G17,G19) -> -132.60991 | H25: =MIN(H9,H11,H13,H15,H17,H19) -> 4.818528 | J25: =MIN(J9,J11,J13,J15,J17,J19) -> -19.07334 | K25: =MIN(K9,K11,K13,K15,K17,K19) -> -119.45934
E26: =MAX(E17,E15,E13,E11,E9,E19) -> 86.030802 | F26: =MAX(F17,F15,F13,F11,F9) -> -9.53667 | G26: =MAX(G17,G15,G13,G11,G9,G19) -> 3.613896 | H26: =MAX(H17,H15,H13,H11,H9) -> 127.89176 | J26: =MAX(J17,J15,J13,J11,J9) -> 28.710396 | K26: =MAX(K17,K15,K13,K11,K9) -> 28.710396
E27: =E7+E26 -> 146.32836
C28: 4.Tính cốt thép dọc chịu lực
D29: Rb= | E29: ='Nhập Rs thep CV240,300,400 '!E52 -> 11.5 | F29: Mpa | J29: KS. VŨ ĐỒ ÁN. SĐT 0979860286
D30: Rs= | E30: ='Nhập Rs thep CV240,300,400 '!J54 -> 260 | F30: Mpa
D31: xR= | E31: 0.65 | J31: CHUYÊN HD ĐỒ ÁN BÊ TÔNG 1, ÔN THI MÔN HỌC BÊ TÔNG 1, CƠ HỌC ĐẤT
D32: zR= | E32: 0.675
D33: aR= | E33: 0.439
C34: a. với momen âm.
D35: tính theo tiết diện chữ nhật | F35: b= | G35: ='Tính dầm chính'!N3 -> 300 | H35: mm
F36: h= | G36: ='Tính dầm chính'!L3 -> 700 | H36: mm
E37: giả thiết a= | F37: 70 | G37: mm | H37: cộng thêm đường kính thanh thép lớp nhất dầm phụ do thanh thép đặt dưới thép dầm phụ
E38: suy ra ho= | F38: =G36-F37 -> 630 | G38: mm
D39: Tại gối B, với Mmg= | F39: ='Tính dầm chính'!M135 -> 395.68543 | G39: kNm
J41: =F39 -> 395.68543 | K41: x | L41: 1000000
H42: ------------------------------------------------------------------------- = | N42: =J41*L41/(H43*J43*K43*K43) -> 0.28896807 | O42: =IF(N42<0.225,"<",IF(N42=0.225,"=",">")) -> >
H43: =E29 -> 11.5 | J43: =G35 -> 300 | K43: =F38 -> 630 | L43: 2
K46: =N42 -> 0.28896807 | L46: = | M46: =0.5*(1+SQRT(1-2*K46)) -> 0.82483221
...
